Workbook

Sheet ★最初に確認★
A1: ふるさと納税 地場産品類型 確認チャート ※「⇒シート：類型〇号へ」をクリックし、提出事項をご確認ください。
A3: STEP1 | B3: 富士市内で生産されたものですか？ | D3: 地場産品類型：1号 ⇒シート：類型1号へ
A4: （栽培、繁殖、肥育、養殖、水揚げ等が富士市内で行われたもの）
A6: STEP2 | B6: 原材料が富士市内で生産されたものですか？ | D6: 地場産品類型：2号 ⇒シート：類型2号へ
A7: （富士市産の原材料費が、返礼品提供価格の50％を超えるもの）
A9: STEP3 | B9: 富士市内で製造・加工されたものですか？ | D9: 地場産品類型：3号 ⇒シート：類型3号へ
A10: （富士市内での製造・加工工程に係る費用が、返礼品提供価格の50％を超えるもの）
A12: STEP4 | B12: 富士市内で提供されるサービス（宿泊以外）ですか？ | D12: 地場産品類型：7号 ⇒シート：類型7号へ
A13: （飲食・体験・レジャーなどの役務）
A15: STEP5 | B15: 富士市内の宿泊施設における宿泊の提供ですか？ | D15: 地場産品類型：7号の2 ⇒シート：類型7号（宿泊）へ
A16: （全国展開のチェーン店を除く）
A18: 上記のいずれにも該当しない場合、事務局へお問合せください。 【事務局】 富士川まちづくり株式会社 TEL 0545-81-5556 MAIL fuji-furusato@fujikawarakuza.co.jp

Sheet 類型1
A1: 返礼品登録シート【地場産品 類型１号】 ＜栽培、繁殖、肥育、養殖、水揚げ等が富士市内で行われたもの＞ ※1返礼品につき、1枚ご提出ください。 | N1: 提出日 | P1: 年 | R1: 月 | T1: 日
A3: 返礼品名 | N3: 25文字程度でご入力ください。 | T3: =LEN(C3) -> 0
A5: ■返礼品提供事業者情報
A6: 会社名 | I6: 担当者名
A7: 住所 | C7: 〒 ‐
A8: 電話番号 | I8: メールアドレス
A9: 消費税納税義務 | C9: 選択 | I9: 課税事業者登録番号
A11: ■返礼品情報
A12: 生産者 | C12: 会社名 生産者名
C13: 住所
C14: 電話番号
C15: 消費税 納税義務 | D15: 選択 | I15: 課税事業者 登録番号
A16: キャッチコピー
A17: 製品説明文 | N17: 製品の説明文をご入力ください。 （生産方法やこだわり、食品の場合は美味しい食べ方や調理方法など）
A18: 製品概要 | N18: 製品のセット内容や素材、色、サイズ等をご入力ください。
A19: 生産内容 | C19: 選択 | N19: 【栽培】、【繁殖】、【肥育】、【養殖】、【水揚げ】、【その他】のいずれかをお選びください。
A20: 生産内容（その他） | N20: 生産内容【その他】を選択した場合、生産内容をご入力ください。
A21: 保存方法 | C21: 選択 | N21: 【常温】、【冷蔵】、【冷凍】のいずれかをお選びください。
A22: 食品の場合、【消費期限/賞味期限】、【アレルギー表示】、【特定原材料9品目】、【特定原材料に準ずるもの20品目】を必ずご入力ください。（必須項目）
A23: 消費期限/賞味期限 | N23: 消費期限/賞味期限のいずれに該当するか、明記してください。 発送日(出荷日)を基準としてご入力ください。 また、セット品の場合は、すべての期限をご入力ください。
A24: アレルギー表示 | C24: 選択 | N24: アレルギー品目【あり】、【なし】、【食品以外】のいずれかをお選びください。
A25: 特定原材料9品目 | N25: 項目⑦で【あり】を選択した場合、対象品目をご入力ください。
A26: 特定原材料に準ずるもの20品目 | N26: 項目⑦で【あり】を選択した場合、対象品目をご入力ください。
A27: JANコード | N27: ※JANコードを取得していない場合、なしとご入力ください。
A29: ■提供価格
A30: 一般販売価格 (税込) | N30: ※ふるさと納税以外の販売を実施していない場合は、なしとご入力ください。
A31: 富士市への 提供価格 (税込) | N31: ふるさと納税における富士市への提供価格をご入力ください。 （こちらに入力いただいた金額をもとに、寄附額を設定いたします）
A32: 税区分 | C32: 選択 | N32: 【内税】または【非課税】をお選びください。
A33: 税率 | C33: 選択 | N33: 項目⑫で【内税】を選択した場合、【8％】または【10％】をお選びください。 ※【非課税】を選択した場合は、入力不要です。
A35: ■配送情報
A36: 配送名称 | C36: 任意 | N36: ご希望がある場合のみ、伝票に記載の商品名をご入力ください。
A37: 配送方法 | C37: 選択 | N37: 【普通郵便】、【書留】、【レターパック】、【ゆうパケット】、【ゆうパック】、【ネコポス】、【宅急便】、【電子メール】のいずれかをお選びください。
A38: 配送種別 | C38: 選択 | N38: 項目⑮で【ゆうパック】、【宅配便】を選択した場合、【常温】、【冷蔵】、【冷凍】のいずれかをお選びください。
A39: 配送サイズ | N39: 項目⑮で【ゆうパック】、【宅急便】を選択した場合、配送サイズをご入力ください。
A40: 送料 | C40: 選択 | N40: 【固定料金】または【地域別料金】をお選びください。
A41: 送料（固定料金） (税込) | N41: 項目⑰で【固定料金】を選択した場合、金額をご入力ください。
A42: 送料（地域別料金） (税込) | N42: 項目⑰で【地域別料金】を選択した場合、関東送料の金額をご入力ください。
A43: 配送期日 | C43: 注文確認後 | K43: 日 程度で発送 | N43: 発注から発送までに必要な日数を、【7日】、【14日】、【21日】、【30日】、【45日】、【60日】からお選びください。
A44: 配送可能期間 | C44: 選択 | N44: 【通年】または【期間限定】をお選びください。
A45: 配送可能期間-開始日 | N45: 項目⑳で【期間限定】を選択した場合、開始日をご入力ください。 ※【通年】を選択した場合は、入力不要です。
...

Sheet 見本-1
A1: 返礼品登録シート【地場産品 類型１号】 ＜栽培、繁殖、肥育、養殖、水揚げ等が富士市内で行われたもの＞ ※1返礼品につき、1枚ご提出ください。 | N1: 提出日 | O1: 2026 | P1: 年 | Q1: 8 | R1: 月 | S1: 31 | T1: 日
A3: 返礼品名 | C3: 富士キウイ（A、B） 5kg | N3: 25文字程度でご入力ください。 | T3: =LEN(C3) -> 14
A5: ■返礼品提供事業者情報
A6: 会社名 | C6: ふるさと納税株式会社 | I6: 担当者名 | K6: ▲▲ ▲▲
A7: 住所 | C7: 〒▲▲▲‐▲▲▲▲ | E7: 富士市永田町▲▲▲
A8: 電話番号 | C8: 0545-▲▲-▲▲▲▲ | I8: メールアドレス | K8: ▲▲▲@▲▲▲▲.co.jp
A9: 消費税納税義務 | C9: 選択 | D9: 課税事業者 | I9: 課税事業者登録番号 | K9: T(13桁)
A11: ■返礼品情報
A12: 生産者 | C12: 会社名 生産者名 | D12: 富士 太郎
C13: 住所 | D13: 富士市永田町▲▲▲
C14: 電話番号 | D14: 0545-55-2952
C15: 消費税 納税義務 | D15: 選択 | E15: 課税事業者 | I15: 課税事業者 登録番号 | J15: T(13桁)
A16: キャッチコピー | C16: 食べやすい！お子様にもおすすめ
A17: 製品説明文 | C17: 糖度が〇以上もある甘いキウイフルーツです。 酸味もあるため、スッキリ食べられます。 食べやすいので、朝ごはんやお子様にもおすすめです！ | N17: 製品の説明文をご入力ください。 （生産方法やこだわり、食品の場合は美味しい食べ方や調理方法など）
A18: 製品概要 | C18: 内容量：キウイフルーツ 5kg 種類：A、B 2種入り セット内容：35個前後・2種 入り/1箱×2 | N18: 製品のセット内容や素材、色、サイズ等をご入力ください。
C19: 【記載例】 《トイレットペーパー》 内容量：〇ロール(〇ロール×〇パック) 種 類：シングル 香 り：芳香（〇〇の香り） カラー：ホワイト 機 能：長巻き、芯なし 材 質：再生紙100％ 製造国：日本 本体サイズ：〇mm×〇メートル | G19: 【記載例】 《ティッシュ》 内容量： 1個〇〇枚(〇〇組)：〇個入りパック×〇パック 計〇個 5個入りパックサイズ：〇 ×〇×〇mm 材 質：再生紙100％ 製造国：日本 1枚サイズ：〇mm×〇mm | K19: 【記載例】 《食品等》 ■内容量 〇袋(〇粒入り)×〇袋 〇g ×〇袋 〇缶（〇味×〇缶） 〇〇〇〇 約〇g×〇P 計約〇g など ■原材料名 鶏肉、食塩、醤油（大豆、小麦を含む）、チキンエキス、調味料（アミノ酸等）、香料、増粘剤（増粘多糖類）、甘味料（キシロース）、カラメル色素、酸味料
A20: 生産内容 | C20: 選択 | D20: 栽培 | N20: 【栽培】、【繁殖】、【肥育】、【養殖】、【水揚げ】、【その他】のいずれかをお選びください。
A21: 生産内容（その他） | N21: 生産内容【その他】を選択した場合、生産内容をご入力ください。
A22: 保存方法 | C22: 選択 | D22: 常温 | N22: 【常温】、【冷蔵】、【冷凍】のいずれかをお選びください。
A23: 食品の場合、【消費期限/賞味期限】、【アレルギー表示】、【特定原材料9品目】、【特定原材料に準ずるもの20品目】を必ずご入力ください。（必須項目）
A24: 消費期限/賞味期限 | C24: 【賞味期限】 A：発送日より5日 B：発送日より7日 | N24: 消費期限/賞味期限のいずれに該当するか、明記してください。 発送日(出荷日)を基準としてご入力ください。 また、セット品の場合は、すべての期限をご入力ください。
A25: アレルギー表示 | C25: 選択 | D25: アレルギー品目あり(またはコンタミネーションの可能性あり) | N25: アレルギー品目【あり】、【なし】、【食品以外】のいずれかをお選びください。
A26: 特定原材料9品目 | N26: 項目⑦で【あり】を選択した場合、対象品目をご入力ください。
A27: 特定原材料に準ずるもの20品目 | C27: キウイフルーツ | N27: 項目⑦で【あり】を選択した場合、対象品目をご入力ください。
A28: JANコード | C28: なし | N28: ※JANコードを取得していない場合、なしとご入力ください。
A30: ■提供価格
A31: 一般販売価格 (税込) | C31: 6000 | N31: ※ふるさと納税以外の販売を実施していない場合は、なしとご入力ください。
A32: 富士市への 提供価格 (税込) | C32: 5500 | N32: ふるさと納税における富士市への提供価格をご入力ください。 （こちらに入力いただいた金額をもとに、寄附額を設定いたします）
A33: 税区分 | C33: 選択 | D33: 内税 | N33: 【内税】または【非課税】をお選びください。
A34: 税率 | C34: 選択 | D34: 0.08 | N34: 項目⑫で【内税】を選択した場合、【8％】または【10％】をお選びください。 ※【非課税】を選択した場合は、入力不要です。
A36: ■配送情報
A37: 配送名称 | C37: 任意 | D37: 富士キウイ（2種） 5kg | N37: ご希望がある場合のみ、伝票に記載の商品名をご入力ください。
A38: 配送方法 | C38: 選択 | D38: 宅急便 | N38: 【普通郵便】、【書留】、【レターパック】、【ゆうパケット】、【ゆうパック】、【ネコポス】、【宅急便】、【電子メール】のいずれかをお選びください。
A39: 配送種別 | C39: 選択 | D39: 常温 | N39: 項目⑮で【ゆうパック】、【宅配便】を選択した場合、【常温】、【冷蔵】、【冷凍】のいずれかをお選びください。
A40: 配送サイズ | C40: 80サイズ（40×20×20） | N40: 項目⑮で【ゆうパック】、【宅急便】を選択した場合、配送サイズをご入力ください。
A41: 送料 | C41: 選択 | D41: 地域別料金 | N41: 【固定料金】または【地域別料金】をお選びください。
A42: 送料（固定料金） (税込) | N42: 項目⑰で【固定料金】を選択した場合、金額をご入力ください。
A43: 送料（地域別料金） (税込) | C43: 1230 | N43: 項目⑰で【地域別料金】を選択した場合、関東送料の金額をご入力ください。
A44: 配送期日 | C44: 注文確認f後 | G44: 30 | K44: 日 程度で発送 | N44: 発注から発送までに必要な日数を、【7日】、【14日】、【21日】、【30日】、【45日】、【60日】からお選びください。
A45: 配送可能期間 | C45: 選択 | D45: 期間限定 | N45: 【通年】または【期間限定】をお選びください。
...

Sheet 類型2
A1: 返礼品登録シート【地場産品 類型２号】 ＜富士市産の原材料費が、返礼品提供価格の50％を超えるもの＞ ※1返礼品につき、1枚ご提出ください。 | N1: 提出日 | P1: 年 | R1: 月 | T1: 日
A3: 返礼品名 | N3: 25文字程度でご入力ください。 | T3: =LEN(C3) -> 0
A5: ■市内での付加価値
A6: 返礼品名 | G6: 富士市への 提供価格 (税込) | K6: 富士市内において生じた価値の割合（％） | N6: 一般販売価格（円）
A7: =IF(C3="","",C3) | G7: =IF(C49="","",C49) | K7: =IF(E76="","",E76) | N7: =IF(C48="","",C48)
A9: ■返礼品提供事業者情報
A10: 会社名 | I10: 担当者名
A11: 住所 | C11: 〒 ‐
A12: 電話番号 | I12: メールアドレス
A13: 消費税納税義務 | C13: 選択 | I13: 課税事業者登録番号
A15: ■返礼品情報
A16: 製造事業者 （メーカー名） | C16: 会社名
C17: 住所
C18: 電話番号
C19: 消費税 納税義務 | D19: 選択 | I19: 課税事業者 登録番号
A20: キャッチコピー
A21: 製品説明文 | N21: 製品の説明文をご入力ください。 （生産方法やこだわり、食品の場合は美味しい食べ方や調理方法など）
A22: 製品概要 | N22: 製品に使用しているすべての原材料と、製品のセット内容や素材、色、サイズ等をご入力ください。
A23: 原材料（市内） | C23: 主要原材料（３つ） | I23: 生産者 | L23: 住所 | N23: 製品の原材料の内、市内で生産された原材料をご入力ください。（価格順で3つ） ※市外原材料が3つ未満の場合、空欄になしをご入力ください。
A27: 原材料（市外） | C27: 主要原材料（３つ） | I27: 生産者 | L27: 住所 | N27: 製品の原材料の内、市外で生産された原材料をご入力ください。（価格順で3つ） ※市外原材料が3つ未満の場合、空欄になしをご入力ください。
A31: 加工・製造工程（市内） | C31: 工程 | D31: 工程内容 | I31: 工場名 | L31: 住所 | N31: 加工・製造工程の内、市内で行われる工程をご入力ください。
C32: 1
C33: 2
C34: 3
A35: 加工・製造工程（市外） | C35: 工程 | D35: 工程内容 | I35: 工場名 | L35: 住所 | N35: 加工・製造工程の内、市外で行われる工程をご入力ください。
C36: 1
C37: 2
C38: 3
A39: 保存方法 | C39: 選択 | N39: 【常温】、【冷蔵】、【冷凍】のいずれかをお選びください。
A40: 食品の場合、【消費期限/賞味期限】、【アレルギー表示】、【特定原材料9品目】、【特定原材料に準ずるもの20品目】を必ずご入力ください。（必須項目）
A41: 消費期限/賞味期限 | N41: 消費期限/賞味期限のいずれに該当するか、明記してください。 発送日(出荷日)を基準としてご入力ください。 また、セット品の場合は、すべての期限をご入力ください。
A42: アレルギー表示 | C42: 選択 | N42: アレルギー品目【あり】、【なし】、【食品以外】のいずれかをお選びください。
A43: 特定原材料9品目 | N43: 項目⑦で【あり】を選択した場合、対象品目をご入力ください。
A44: 特定原材料に準ずるもの20品目 | N44: 項目⑦で【あり】を選択した場合、対象品目をご入力ください。
A45: JANコード | N45: ※JANコードを取得していない場合、なしとご入力ください。
A47: ■提供価格
A48: 一般販売価格 (税込) | N48: ※ふるさと納税以外の販売を実施していない場合は、なしとご入力ください。
A49: 富士市への 提供価格 (税込) | N49: ふるさと納税における富士市への提供価格をご入力ください。 （こちらに入力いただいた金額をもとに、寄附額を設定いたします）
A50: 税区分 | C50: 選択 | N50: 【内税】または【非課税】をお選びください。
A51: 税率 | C51: 選択 | N51: 項目⑫で【内税】を選択した場合、【8％】または【10％】をお選びください。 ※【非課税】を選択した場合は、入力不要です。
...

Sheet 見本-2
A1: 返礼品登録シート【地場産品 類型２号】 ＜富士市産の原材料費が、返礼品提供価格の50％を超えるもの＞ ※1返礼品につき、1枚ご提出ください。 | N1: 提出日 | O1: 2026 | P1: 年 | Q1: 8 | R1: 月 | S1: 31 | T1: 日
A3: 返礼品名 | C3: 富士緑茶（100g×2袋） | N3: 25文字程度でご入力ください。 | T3: =LEN(C3) -> 13
A5: ■市内での付加価値
A6: 返礼品名 | G6: 富士市への 提供価格 (税込) | K6: 富士市内において生じた価値の割合（％） | N6: 一般販売価格（円）
A7: =IF(C3="","",C3) -> 富士緑茶（100g×2袋） | G7: =IF(C50="","",C50) -> 1200 | K7: =IF(E77="","",E77) -> 0.75 | N7: =IF(C49="","",C49) -> 1200
A9: ■返礼品提供事業者情報
A10: 会社名 | C10: ふるさと納税株式会社 | I10: 担当者名 | K10: ▲▲ ▲▲
A11: 住所 | C11: 〒▲▲▲‐▲▲▲▲ | E11: 富士市永田町▲▲▲
A12: 電話番号 | C12: 0545-▲▲-▲▲▲▲ | I12: メールアドレス | K12: ▲▲▲@▲▲▲▲.co.jp
A13: 消費税納税義務 | C13: 選択 | D13: 課税事業者 | I13: 課税事業者登録番号 | K13: T(13桁)
A15: ■返礼品情報
A16: 製造事業者 （メーカー名） | C16: 会社名 | D16: 富士緑茶株式会社
C17: 住所 | D17: 富士宮市弓沢町▲▲▲
C18: 電話番号 | D18: 0545-55-2952
C19: 消費税 納税義務 | D19: 選択 | E19: 課税事業者 | I19: 課税事業者 登録番号 | J19: T(13桁)
A20: キャッチコピー | C20: 優雅な香りと、豊かな味わい。贈答品にもおすすめ
A21: 製品説明文 | C21: 富士山の麓で栽培された茶葉を使用した富士緑茶は、優雅な香りと豊かな味わいが特徴です。 80度のお湯で少し蒸らしてから、お召し上がりください。 袋には富士山の絵柄を描いているため、贈答品にもおすすめです！ | N21: 製品の説明文をご入力ください。 （生産方法やこだわり、食品の場合は美味しい食べ方や調理方法など）
A22: 製品概要 | C22: 原材料：緑茶 内容量：200g（100g/1袋×2） 種類：やぶ北茶 セット内容：100g/1袋×2 | N22: 製品に使用しているすべての原材料と、製品のセット内容や素材、色、サイズ等をご入力ください。
C23: 【記載例】 《トイレットペーパー》 内容量：〇ロール(〇ロール×〇パック) 種 類：シングル 香 り：芳香（〇〇の香り） カラー：ホワイト 機 能：長巻き、芯なし 材 質：再生紙100％ 製造国：日本 本体サイズ：〇mm×〇メートル | G23: 【記載例】 《ティッシュ》 内容量： 1個〇〇枚(〇〇組)：〇個入りパック×〇パック 計〇個 5個入りパックサイズ：〇 ×〇×〇mm 材 質：再生紙100％ 製造国：日本 1枚サイズ：〇mm×〇mm | K23: 【記載例】 《食品等》 ■内容量 〇袋(〇粒入り)×〇袋 〇g ×〇袋 〇缶（〇味×〇缶） 〇〇〇〇 約〇g×〇P 計約〇g など ■原材料名 鶏肉、食塩、醤油（大豆、小麦を含む）、チキンエキス、調味料（アミノ酸等）、香料、増粘剤（増粘多糖類）、甘味料（キシロース）、カラメル色素、酸味料
A24: 原材料（市内） | C24: 主要原材料（３つ） | I24: 生産者 | L24: 住所 | N24: 製品の原材料の内、市内で生産された原材料をご入力ください。（価格順で3つ） ※市外原材料が3つ未満の場合、空欄になしをご入力ください。
C25: 緑茶 | I25: 富士 太郎 | L25: 富士市永田町▲▲▲
C26: なし
C27: なし
A28: 原材料（市外） | C28: 主要原材料（３つ） | I28: 生産者 | L28: 住所 | N28: 製品の原材料の内、市外で生産された原材料をご入力ください。（価格順で3つ） ※市外原材料が3つ未満の場合、空欄になしをご入力ください。
C29: なし
C30: なし
C31: なし
A32: 加工・製造工程（市内） | C32: 工程 | D32: 工程内容 | I32: 工場名 | L32: 住所 | N32: 加工・製造工程の内、市内で行われる工程をご入力ください。
C33: 1 | D33: 摘採 | I33: 富士 太郎 | L33: 富士市永田町▲▲▲
C34: 2
C35: 3
A36: 加工・製造工程（市外） | C36: 工程 | D36: 工程内容 | I36: 工場名 | L36: 住所 | N36: 加工・製造工程の内、市外で行われる工程をご入力ください。
C37: 1 | D37: 蒸熱、冷却 | I37: 富士緑茶株式会社 | L37: 富士宮市弓沢町▲▲▲
C38: 2 | D38: 粗揉・揉捻・中揉・精揉、乾燥 | I38: 富士緑茶株式会社 | L38: 富士宮市弓沢町▲▲▲
C39: 3 | D39: 計量・包装 | I39: 富士緑茶株式会社 | L39: 富士宮市弓沢町▲▲▲
A40: 保存方法 | C40: 選択 | D40: 常温 | N40: 【常温】、【冷蔵】、【冷凍】のいずれかをお選びください。
A41: 食品の場合、【消費期限/賞味期限】、【アレルギー表示】、【特定原材料9品目】、【特定原材料に準ずるもの20品目】を必ずご入力ください。（必須項目）
A42: 消費期限/賞味期限 | C42: 【賞味期限】 発送日より常温3か月 | N42: 消費期限/賞味期限のいずれに該当するか、明記してください。 発送日(出荷日)を基準としてご入力ください。 また、セット品の場合は、すべての期限をご入力ください。
A43: アレルギー表示 | C43: 選択 | D43: アレルギー品目なし | N43: アレルギー品目【あり】、【なし】、【食品以外】のいずれかをお選びください。
A44: 特定原材料9品目 | N44: 項目⑦で【あり】を選択した場合、対象品目をご入力ください。
...

Sheet 類型3
A1: 返礼品登録シート【地場産品 類型３号】 ＜富士市内での製造・加工工程に係る費用が、返礼品提供価格の50％を超えるもの＞ ※1返礼品につき、1枚ご提出ください。 | N1: 提出日 | P1: 年 | R1: 月 | T1: 日
A3: 返礼品名 | N3: 25文字程度でご入力ください。 | T3: =LEN(C3) -> 0
A5: ■市内での付加価値（公表事項）※市のHPで公表される事項です。制度改正により、公表事項は変更になる可能性がございます。
A6: 返礼品名 | G6: 富士市への 提供価格 (税込) | K6: 富士市内において生じた価値の割合（％） | N6: 一般販売価格（円）
A7: =IF(C3="","",C3) | G7: =IF(C49="","",C49) | K7: =IF(E76="","",E76) | N7: =IF(C48="","",C48)
A9: ■返礼品提供事業者情報
A10: 会社名 | I10: 担当者名
A11: 住所 | C11: 〒 ‐
A12: 電話番号 | I12: メールアドレス
A13: 消費税納税義務 | C13: 選択 | I13: 課税事業者登録番号
A15: ■返礼品情報
A16: 製造事業者 （メーカー名） | C16: 会社名
C17: 住所
C18: 電話番号
C19: 消費税 納税義務 | D19: 選択 | I19: 課税事業者 登録番号
A20: キャッチコピー
A21: 製品説明文 | N21: 製品の説明文をご入力ください。 （生産方法やこだわり、食品の場合は美味しい食べ方や調理方法など）
A22: 製品概要 | N22: 製品に使用しているすべての原材料と、製品のセット内容や素材、色、サイズ等をご入力ください。
A23: 原材料（市内） | C23: 主要原材料（３つ） | N23: 製品の原材料の内、市内で生産された原材料をご入力ください。（価格順で3つ） ※市外原材料が3つ未満の場合、空欄になしをご入力ください。
A25: 原材料（市外） | C25: 主要原材料（３つ） | N25: 製品の原材料の内、市外で生産された原材料をご入力ください。（価格順で3つ） ※市外原材料が3つ未満の場合、空欄になしをご入力ください。
A27: 加工・製造工程（市内） | C27: 工程 | D27: 工程内容 | I27: 工場名 | L27: 住所 | N27: 加工・製造工程の内、市内で行われる工程の詳細をご入力ください。
C28: 1
C29: 2
C30: 3
C31: 4
C32: 5
A33: 加工・製造工程（市外） | C33: 工程 | D33: 工程内容 | I33: 工場名 | L33: 住所 | N33: 加工・製造工程の内、市外で行われる工程の詳細をご入力ください。
C34: 1
C35: 2
C36: 3
C37: 4
C38: 5
A39: 保存方法 | C39: 選択 | N39: 【常温】、【冷蔵】、【冷凍】のいずれかをお選びください。
A40: 食品の場合、【消費期限/賞味期限】、【アレルギー表示】、【特定原材料9品目】、【特定原材料に準ずるもの20品目】を必ずご入力ください。（必須項目）
A41: 消費期限/賞味期限 | N41: 消費期限/賞味期限のいずれに該当するか、明記してください。 発送日(出荷日)を基準としてご入力ください。 また、セット品の場合は、すべての期限をご入力ください。
A42: アレルギー表示 | C42: 選択 | N42: アレルギー品目【あり】、【なし】、【食品以外】のいずれかをお選びください。
A43: 特定原材料9品目 | N43: 項目⑦で【あり】を選択した場合、対象品目をご入力ください。
A44: 特定原材料に準ずるもの20品目 | N44: 項目⑦で【あり】を選択した場合、対象品目をご入力ください。
A45: JANコード | N45: ※JANコードを取得していない場合、なしとご入力ください。
A47: ■提供価格
...

Sheet 見本-3
A1: 返礼品登録シート【地場産品 類型３号】 ＜富士市内での製造・加工工程に係る費用が、返礼品提供価格の50％を超えるもの＞ ※1返礼品につき、1枚ご提出ください。 | N1: 提出日 | O1: 2026 | P1: 年 | Q1: 8 | R1: 月 | S1: 31 | T1: 日
A3: 返礼品名 | C3: 富士トイレットペーパー 4パック | N3: 25文字程度でご入力ください。 | T3: =LEN(C3) -> 16
A5: ■市内での付加価値（公表事項）※市のHPで公表される事項です。制度改正により、公表事項は変更になる可能性がございます。
A6: 返礼品名 | G6: 富士市への 提供価格 (税込) | K6: 富士市内において生じた価値の割合（％） | N6: 一般販売価格（円）
A7: =IF(C3="","",C3) -> 富士トイレットペーパー 4パック | G7: =IF(C50="","",C50) -> 2200 | K7: =IF(E77="","",E77) -> 0.90909091 | N7: =IF(C49="","",C49) -> 3300
A9: ■返礼品提供事業者情報
A10: 会社名 | C10: ふるさと納税株式会社 | I10: 担当者名 | K10: ▲▲ ▲▲
A11: 住所 | C11: 〒▲▲▲‐▲▲▲▲ | E11: 富士市永田町▲▲▲
A12: 電話番号 | C12: 0545-▲▲-▲▲▲▲ | I12: メールアドレス | K12: ▲▲▲@▲▲▲▲.co.jp
A13: 消費税納税義務 | C13: 選択 | D13: 課税事業者 | I13: 課税事業者登録番号 | K13: T(13桁)
A15: ■返礼品情報
A16: 製造事業者 （メーカー名） | C16: 会社名 | D16: 富士トイレ株式会社
C17: 住所 | D17: 富士市永田町▲▲▲
C18: 電話番号 | D18: 0545-55-2952
C19: 消費税 納税義務 | D19: 選択 | E19: 課税事業者 | I19: 課税事業者 登録番号 | J19: T(13桁)
A20: キャッチコピー | C20: かわいい●●●のパッケージ
A21: 製品説明文 | C21: エンボス加工と独自の製法でふんわり優しい肌触りが特徴です。 パッケージにはかわいい●●●がプリントされており、デザインはランダムで届きます。 トイレットペーパーには消臭効果もあり、●●●の香り付きです。 | N21: 製品の説明文をご入力ください。 （生産方法やこだわり、食品の場合は美味しい食べ方や調理方法など）
A22: 製品概要 | C22: 【内容量】12ロール×4パック 【種類】ダブル 【香り】●●●香り 【カラー】ホワイト（エンボス加工による絵柄は●●●色） 【特徴】エンボス加工、●●●のパッケージ 【原材料】古紙リサイクルパルプ 【製造国】日本 【本体サイズ】●mm×●ｍ | N22: 製品に使用しているすべての原材料と、製品のセット内容や素材、色、サイズ等をご入力ください。
C23: 【記載例】 《トイレットペーパー》 内容量：〇ロール(〇ロール×〇パック) 種 類：シングル 香 り：芳香（〇〇の香り） カラー：ホワイト 機 能：長巻き、芯なし 材 質：再生紙100％ 製造国：日本 本体サイズ：〇mm×〇メートル | G23: 【記載例】 《ティッシュ》 内容量： 1個〇〇枚(〇〇組)：〇個入りパック×〇パック 計〇個 5個入りパックサイズ：〇 ×〇×〇mm 材 質：再生紙100％ 製造国：日本 1枚サイズ：〇mm×〇mm | K23: 【記載例】 《食品等》 ■内容量 〇袋(〇粒入り)×〇袋 〇g ×〇袋 〇缶（〇味×〇缶） 〇〇〇〇 約〇g×〇P 計約〇g など ■原材料名 鶏肉、食塩、醤油（大豆、小麦を含む）、チキンエキス、調味料（アミノ酸等）、香料、増粘剤（増粘多糖類）、甘味料（キシロース）、カラメル色素、酸味料
A24: 原材料（市内） | C24: 主要原材料（３つ） | N24: 製品の原材料の内、市内で生産された原材料をご入力ください。（価格順で3つ） ※市外原材料が3つ未満の場合、空欄になしをご入力ください。
C25: 古紙 | G25: なし | K25: なし
A26: 原材料（市外） | C26: 主要原材料（３つ） | N26: 製品の原材料の内、市外で生産された原材料をご入力ください。（価格順で3つ） ※市外原材料が3つ未満の場合、空欄になしをご入力ください。
C27: 古紙 | G27: なし | K27: なし
A28: 加工・製造工程（市内） | C28: 工程 | D28: 工程内容 | I28: 工場名 | L28: 住所 | N28: 加工・製造工程の内、市内で行われる工程の詳細をご入力ください。
C29: 1 | D29: 古紙溶解・洗浄 | I29: 富士トイレ株式会社 | L29: 富士市永田町▲▲▲
C30: 2 | D30: 原紙製造（抄紙・脱水・乾燥・巻き取り） | I30: 富士トイレ株式会社 | L30: 富士市永田町▲▲▲
C31: 3 | D31: 裁断加工（エンボス加工・巻き取り・裁断） | I31: 富士トイレ株式会社 | L31: 富士市永田町▲▲▲
C32: 4 | D32: 検品・包装 | I32: 富士トイレ株式会社 | L32: 富士市永田町▲▲▲
C33: 5 | D33: 品質管理 | I33: 富士トイレ株式会社 | L33: 富士市永田町▲▲▲
A34: 加工・製造工程（市外） | C34: 工程 | D34: 工程内容 | I34: 工場名 | L34: 住所 | N34: 加工・製造工程の内、市外で行われる工程の詳細をご入力ください。
C35: 1
C36: 2
C37: 3
C38: 4
C39: 5
A40: 保存方法 | C40: 選択 | D40: 常温 | N40: 【常温】、【冷蔵】、【冷凍】のいずれかをお選びください。
A41: 食品の場合、【消費期限/賞味期限】、【アレルギー表示】、【特定原材料9品目】、【特定原材料に準ずるもの20品目】を必ずご入力ください。（必須項目）
A42: 消費期限/賞味期限 | N42: 消費期限/賞味期限のいずれに該当するか、明記してください。 発送日(出荷日)を基準としてご入力ください。 また、セット品の場合は、すべての期限をご入力ください。
A43: アレルギー表示 | C43: 選択 | D43: アレルギー品目を記載しない(食品以外) | N43: アレルギー品目【あり】、【なし】、【食品以外】のいずれかをお選びください。
A44: 特定原材料8品目 | N44: 項目⑦で【あり】を選択した場合、対象品目をご入力ください。
...

Sheet 類型7
A1: 返礼品登録シート【地場産品 類型7号】 ＜飲食・体験・レジャーなどの役務＞ ※1返礼品につき、1枚ご提出ください。寄附後の流れについて、事務局よりヒアリングさせていただきます。 | N1: 提出日 | P1: 年 | R1: 月 | T1: 日
A3: 返礼品名 | N3: 25文字程度でご入力ください。 | T3: =LEN(C3) -> 0
A5: ■返礼品提供事業者情報
A6: 会社名 | I6: 担当者名
A7: 住所 | C7: 〒 ‐
A8: 電話番号 | I8: メールアドレス
A9: 消費税納税義務 | C9: 選択 | I9: 課税事業者登録番号
A11: ■返礼品情報
A12: 役務提供者 | C12: 会社名 提供者名
C13: 住所
C14: 電話番号
C15: 消費税 納税義務 | D15: 選択 | I15: 課税事業者 登録番号
A16: キャッチコピー
A17: 商品説明文 | N17: 商品の説明文をご入力ください。 （こだわり、おすすめポイント、体験談など）
A18: 商品概要 | N18: 市内で行われる役務の内容の詳細をご入力ください。 （数量、セット内容、送迎の有無、持ち物等）
A19: 役務提供場所 | N19: 実際に役務が提供される住所を、すべてご入力ください。
A20: 役務内容の独自性 | N20: 市外では代替できない内容、独自性をご入力ください。
A21: 使用期限 | N21: ※使用期限がない場合、なしとご入力ください。
A22: JANコード | N22: ※JANコードを取得していない場合、なしとご入力ください。
A24: ■提供価格
A25: 一般販売価格 (税込) | N25: ※ふるさと納税以外の販売を実施していない場合は、なしとご入力ください。
A26: 富士市への 提供価格 (税込) | N26: ふるさと納税における富士市への提供価格をご入力ください。 （こちらに入力いただいた金額をもとに、寄附額を設定いたします）
A27: 税区分 | C27: 選択 | N27: 【内税】または【非課税】をお選びください。
A28: 税率 | C28: 選択 | N28: 項目⑫で【内税】を選択した場合、【8％】または【10％】をお選びください。 ※【非課税】を選択した場合は、入力不要です。
A30: ■配送情報
A31: 配送の有無 | C31: 選択 | N31: チケット・申込書等、寄附者様へ送付物がある場合、【有】をお選びください。 ※メール、電話連絡のみの場合、【無】をお選びください。
A32: 配送【有】を選択した場合、下記の項目をご入力ください。
A33: 配送名称 | C33: 任意 | N33: ご希望がある場合のみ、伝票に記載の商品名をご入力ください。
A34: 配送方法 | C34: 選択 | N34: 【普通郵便】、【書留】、【レターパック】、【ゆうパケット】、【ゆうパック】、【ネコポス】、【宅急便】、【電子メール】のいずれかをお選びください。
A35: 配送種別 | C35: 選択 | N35: 項目⑮で【ゆうパック】、【宅配便】を選択した場合、【常温】、【冷蔵】、【冷凍】のいずれかをお選びください。
A36: 配送サイズ | N36: 項目⑮で【ゆうパック】、【宅急便】を選択した場合、配送サイズをご入力ください。
A37: 送料 | C37: 選択 | N37: 【固定料金】または【地域別料金】をお選びください。
A38: 送料（固定料金） (税込) | N38: 項目⑰で【固定料金】を選択した場合、金額をご入力ください。
A39: 送料（地域別料金） (税込) | N39: 項目⑰で【地域別料金】を選択した場合、関東送料の金額をご入力ください。
A40: 配送期日 | C40: 注文確認f後 | K40: 日 程度で発送 | N40: 発注から発送までに必要な日数を、【7日】、【14日】、【21日】、【30日】、【45日】、【60日】からお選びください。
A41: 配送可能期間 | C41: 選択 | N41: 【通年】または【期間限定】をお選びください。
A42: 配送可能期間-開始日 | N42: 項目⑳で【期間限定】を選択した場合、開始日をご入力ください。 ※【通年】を選択した場合は、入力不要です。
A43: 配送可能期間-終了日 | N43: 項目⑳で【期間限定】を選択した場合、終了日をご入力ください。 ※【通年】を選択した場合は、入力不要です。
A44: 配送不可地域 | C44: ※寄附者様へは、【沖縄・離島配送不可】である旨をご案内しておりますが、実際にお申込みがあった場合には、配送を依頼させていただきます。 | N44: 配送不可地域がある場合、対象地域をご入力ください。 ※全国発送可能な場合は、なしとご入力ください。
A47: ■受注情報
...

Sheet 見本-7
A1: 返礼品登録シート【地場産品 類型7号】 ＜飲食・体験・レジャーなどの役務＞ ※1返礼品につき、1枚ご提出ください。寄附後の流れについて、事務局よりヒアリングさせていただきます。 | N1: 提出日 | O1: 2026 | P1: 年 | Q1: 8 | R1: 月 | S1: 31 | T1: 日
A3: 返礼品名 | C3: 茶摘み体験（～コース） 2名様 | N3: 25文字程度でご入力ください。 | T3: =LEN(C3) -> 15
A5: ■返礼品提供事業者情報
A6: 会社名 | C6: ふるさと納税株式会社 | I6: 担当者名 | K6: ▲▲ ▲▲
A7: 住所 | C7: 〒▲▲▲‐▲▲▲▲ | E7: 富士市永田町▲▲▲
A8: 電話番号 | C8: 0545-▲▲-▲▲▲▲ | I8: メールアドレス | K8: ▲▲▲@▲▲▲▲.co.jp
A9: 消費税納税義務 | C9: 選択 | D9: 課税事業者 | I9: 課税事業者登録番号 | K9: T(13桁)
A11: ■返礼品情報
A12: 役務提供者 | C12: 会社名 提供者名 | D12: ふるさと納税株式会社
C13: 住所 | D13: 富士市永田町▲▲▲
C14: 電話番号 | D14: 0545-▲▲-▲▲▲▲
C15: 消費税 納税義務 | D15: 選択 | E15: 課税事業者 | I15: 課税事業者 登録番号 | J15: T(13桁)
A16: キャッチコピー | C16: 富士山の麓で茶摘み体験！
A17: 商品説明文 | C17: 富士市の茶畑●●●で茶摘み体験を行うことができます。 （女性は茶娘衣装を着用可能） ●●●は、茶畑越しに富士山を望めるスポットです。 茶摘み後には、富士市産の緑茶とほうじ茶を、お茶菓子と一緒にお召し上がりいただけます。 | N17: 商品の説明文をご入力ください。 （こだわり、おすすめポイント、体験談など）
A18: 商品概要 | C18: 【人数】2名 【内容】茶摘み体験 【セット内容】茶摘み体験、茶屋での緑茶・ほうじ茶各1杯（地元銘菓のお茶菓子付き） 【送迎】なし 【持ち物】なし | N18: 市内で行われる役務の内容の詳細をご入力ください。 （数量、セット内容、送迎の有無、持ち物等）
A19: 役務提供場所 | C19: 富士市●●● | N19: 実際に役務が提供される住所を、すべてご入力ください。
A20: 役務内容の独自性 | C20: 富士山を間近に見ながら茶摘みができる。富士市産のやぶ北茶とほうじ茶を飲むことができる。 | N20: 市外では代替できない内容、独自性をご入力ください。
A21: 使用期限 | C21: 茶摘み時期（4月中旬～5月下旬） | N21: ※使用期限がない場合、なしとご入力ください。
A22: JANコード | C22: なし | N22: ※JANコードを取得していない場合、なしとご入力ください。
A24: ■提供価格
A25: 一般販売価格 (税込) | C25: なし | N25: ※ふるさと納税以外の販売を実施していない場合は、なしとご入力ください。
A26: 富士市への 提供価格 (税込) | C26: 10000 | N26: ふるさと納税における富士市への提供価格をご入力ください。 （こちらに入力いただいた金額をもとに、寄附額を設定いたします）
A27: 税区分 | C27: 選択 | D27: 内税 | N27: 【内税】または【非課税】をお選びください。
A28: 税率 | C28: 選択 | D28: 0.1 | N28: 項目⑫で【内税】を選択した場合、【8％】または【10％】をお選びください。 ※【非課税】を選択した場合は、入力不要です。
A30: ■配送情報
A31: 配送の有無 | C31: 選択 | D31: 有 | N31: チケット・申込書等、寄附者様へ送付物がある場合、【有】をお選びください。 ※メール、電話連絡のみの場合、【無】をお選びください。
A32: 配送【有】を選択した場合、下記の項目をご入力ください。
A33: 配送名称 | C33: 任意 | N33: ご希望がある場合のみ、伝票に記載の商品名をご入力ください。
A34: 配送方法 | C34: 選択 | D34: 書留 | N34: 【普通郵便】、【書留】、【レターパック】、【ゆうパケット】、【ゆうパック】、【ネコポス】、【宅急便】、【電子メール】のいずれかをお選びください。
A35: 配送種別 | C35: 選択 | D35: 常温 | N35: 項目⑮で【ゆうパック】、【宅配便】を選択した場合、【常温】、【冷蔵】、【冷凍】のいずれかをお選びください。
A36: 配送サイズ | N36: 項目⑮で【ゆうパック】、【宅急便】を選択した場合、配送サイズをご入力ください。
A37: 送料 | C37: 選択 | D37: 固定料金 | N37: 【固定料金】または【地域別料金】をお選びください。
A38: 送料（固定料金） (税込) | C38: 460 | N38: 項目⑰で【固定料金】を選択した場合、金額をご入力ください。
A39: 送料（地域別料金） (税込) | N39: 項目⑰で【地域別料金】を選択した場合、関東送料の金額をご入力ください。
A40: 配送期日 | C40: 注文確認f後 | G40: 14 | K40: 日 程度で発送 | N40: 発注から発送までに必要な日数を、【7日】、【14日】、【21日】、【30日】、【45日】、【60日】からお選びください。
A41: 配送可能期間 | C41: 選択 | D41: 期間限定 | N41: 【通年】または【期間限定】をお選びください。
A42: 配送可能期間-開始日 | C42: 46082 | N42: 項目⑳で【期間限定】を選択した場合、開始日をご入力ください。 ※【通年】を選択した場合は、入力不要です。
A43: 配送可能期間-終了日 | C43: 46142 | N43: 項目⑳で【期間限定】を選択した場合、終了日をご入力ください。 ※【通年】を選択した場合は、入力不要です。
A44: 配送不可地域 | C44: ※寄附者様へは、【沖縄・離島配送不可】である旨をご案内しておりますが、実際にお申込みがあった場合には、配送を依頼させていただきます。 | N44: 配送不可地域がある場合、対象地域をご入力ください。 ※全国発送可能な場合は、なしとご入力ください。
C45: なし
...

Sheet 類型7の2
A1: 返礼品登録シート【地場産品 類型7号の2】 ＜宿泊（全国展開のチェーン店を除く）＞ ※1返礼品につき、1枚ご提出ください。寄附後の流れについて、事務局よりヒアリングさせていただきます。 | N1: 提出日 | P1: 年 | R1: 月 | T1: 日
A3: 返礼品名 | N3: 25文字程度でご入力ください。 | T3: =LEN(C3) -> 0
A5: ■返礼品提供事業者情報
A6: 会社名 | I6: 担当者名
A7: 住所 | C7: 〒 ‐
A8: 電話番号 | I8: メールアドレス
A9: 消費税納税義務 | C9: 選択 | I9: 課税事業者登録番号
A11: ■返礼品情報
A12: 役務提供者 | C12: 会社名 提供者名
C13: 住所
C14: 電話番号
C15: 消費税 納税義務 | D15: 選択 | I15: 課税事業者 登録番号
A16: キャッチコピー
A17: 商品説明文 | N17: 商品の説明文をご入力ください。 （こだわり、おすすめポイントなど）
A18: 商品概要 | N18: 市内で行われる役務の内容の詳細をご入力ください。 （数量、部屋タイプ、セット内容、送迎の有無、持ち物等）
A19: 役務提供場所 | N19: 実際に役務が提供される住所を、すべてご入力ください。
A20: 役務内容の独自性 | N20: 市外では代替できない内容、独自性をご入力ください。
A21: 使用期限 | N21: ※使用期限がない場合、なしとご入力ください。
A22: JANコード | N22: ※JANコードを取得していない場合、なしとご入力ください。
A24: ■提供価格
A25: 一般販売価格 (税込) | N25: ※ふるさと納税以外の販売を実施していない場合は、なしとご入力ください。
A26: 富士市への 提供価格 (税込) | N26: ふるさと納税における富士市への提供価格をご入力ください。 （こちらに入力いただいた金額をもとに、寄附額を設定いたします）
A27: 1泊1人当たりの価格 （税込） | N27: ※富士市への提供価格と同じ場合、同額とご入力ください。
A28: 税区分 | C28: 選択 | N28: 【内税】または【非課税】をお選びください。
A29: 税率 | C29: 選択 | N29: 項目⑫で【内税】を選択した場合、【8％】または【10％】をお選びください。 ※【非課税】を選択した場合は、入力不要です。
A31: ■配送情報
A32: 配送の有無 | C32: 選択 | N32: チケット・申込書等、寄附者様へ送付物がある場合、【有】をお選びください。 ※メール、電話連絡のみの場合、【無】をお選びください。
A33: 配送【有】を選択した場合、下記の項目をご入力ください。
A34: 配送名称 | C34: 任意 | N34: ご希望がある場合のみ、伝票に記載の商品名をご入力ください。
A35: 配送方法 | C35: 選択 | N35: 【普通郵便】、【書留】、【レターパック】、【ゆうパケット】、【ゆうパック】、【ネコポス】、【宅急便】、【電子メール】のいずれかをお選びください。
A36: 配送種別 | C36: 選択 | N36: 項目⑮で【ゆうパック】、【宅配便】を選択した場合、【常温】、【冷蔵】、【冷凍】のいずれかをお選びください。
A37: 配送サイズ | N37: 項目⑮で【ゆうパック】、【宅急便】を選択した場合、配送サイズをご入力ください。
A38: 送料 | C38: 選択 | N38: 【固定料金】または【地域別料金】をお選びください。
A39: 送料（固定料金） (税込) | N39: 項目⑰で【固定料金】を選択した場合、金額をご入力ください。
A40: 送料（地域別料金） (税込) | N40: 項目⑰で【地域別料金】を選択した場合、関東送料の金額をご入力ください。
A41: 配送期日 | C41: 注文確認f後 | K41: 日 程度で発送 | N41: 発注から発送までに必要な日数を、【7日】、【14日】、【21日】、【30日】、【45日】、【60日】からお選びください。
A42: 配送可能期間 | C42: 選択 | N42: 【通年】または【期間限定】をお選びください。
A43: 配送可能期間-開始日 | N43: 項目⑳で【期間限定】を選択した場合、開始日をご入力ください。 ※【通年】を選択した場合は、入力不要です。
A44: 配送可能期間-終了日 | N44: 項目⑳で【期間限定】を選択した場合、終了日をご入力ください。 ※【通年】を選択した場合は、入力不要です。
A45: 配送不可地域 | C45: ※寄附者様へは、【沖縄・離島配送不可】である旨をご案内しておりますが、実際にお申込みがあった場合には、配送を依頼させていただきます。 | N45: 配送不可地域がある場合、対象地域をご入力ください。 ※全国発送可能な場合は、なしとご入力ください。
...

Sheet 見本-7の2
A1: 返礼品登録シート【地場産品 類型7号の2】 ＜宿泊（全国展開のチェーン店を除く）＞ ※1返礼品につき、1枚ご提出ください。寄附後の流れについて、事務局よりヒアリングさせていただきます。 | N1: 提出日 | O1: 2026 | P1: 年 | Q1: 8 | R1: 月 | S1: 31 | T1: 日
A3: 返礼品名 | C3: ●●●ホテル 1泊2名様（1部屋） | N3: 25文字程度でご入力ください。 | T3: =LEN(C3) -> 17
A5: ■返礼品提供事業者情報
A6: 会社名 | C6: ふるさと納税株式会社 | I6: 担当者名 | K6: ▲▲ ▲▲
A7: 住所 | C7: 〒▲▲▲‐▲▲▲▲ | E7: 富士市永田町▲▲▲
A8: 電話番号 | C8: 0545-▲▲-▲▲▲▲ | I8: メールアドレス | K8: ▲▲▲@▲▲▲▲.co.jp
A9: 消費税納税義務 | C9: 選択 | D9: 課税事業者 | I9: 課税事業者登録番号 | K9: T(13桁)
A11: ■返礼品情報
A12: 役務提供者 | C12: 会社名 提供者名 | D12: ふるさと納税株式会社
C13: 住所 | D13: 富士市永田町▲▲▲
C14: 電話番号 | D14: 0545-▲▲-▲▲▲▲
C15: 消費税 納税義務 | D15: 選択 | E15: 課税事業者 | I15: 課税事業者 登録番号 | J15: T(13桁)
A16: キャッチコピー | C16: 南に駿河湾、北に富士山、朝食は田子の浦しらす！
A17: 商品説明文 | C17: 部屋の窓（南向き）からは駿河湾が一望でき、朝食会場の窓（北向き）からは富士山が一望できます。 朝食のビュッフェには田子の浦しらす（釜揚げしらす）を使用したメニューを多数ご用意しております。 漁期には、獲れたての生シラスが並ぶこともありますよ。 全室マットレスは●●●を使用しています。富士登山前後のご宿泊にもおすすめです。 | N17: 商品の説明文をご入力ください。 （こだわり、おすすめポイントなど）
A18: 商品概要 | C18: 【数量】1泊2名様×1部屋 【部屋タイプ】ツインルーム 【セット内容】宿泊代、朝食ビュッフェ2名様、大浴場使用可能 【送迎】富士駅、新富士駅への送迎有 | N18: 市内で行われる役務の内容の詳細をご入力ください。 （数量、部屋タイプ、セット内容、送迎の有無、持ち物等）
A19: 役務提供場所 | C19: 富士市永田町▲▲▲ | N19: 実際に役務が提供される住所を、すべてご入力ください。
A20: 役務内容の独自性 | C20: 駿河湾と富士山が一望できる。田子の浦しらす（釜揚げ・生シラス）を食べることができる。 | N20: 市外では代替できない内容、独自性をご入力ください。
A21: 使用期限 | C21: 取得から6か月 | N21: ※使用期限がない場合、なしとご入力ください。
A22: JANコード | C22: なし | N22: ※JANコードを取得していない場合、なしとご入力ください。
A24: ■提供価格
A25: 一般販売価格 (税込) | C25: 15000 | N25: ※ふるさと納税以外の販売を実施していない場合は、なしとご入力ください。
A26: 富士市への 提供価格 (税込) | C26: 15000 | N26: ふるさと納税における富士市への提供価格をご入力ください。 （こちらに入力いただいた金額をもとに、寄附額を設定いたします）
A27: 1泊1人当たりの価格 （税込） | C27: 7500 | N27: ※富士市への提供価格と同じ場合、同額とご入力ください。
A28: 税区分 | C28: 選択 | D28: 内税 | N28: 【内税】または【非課税】をお選びください。
A29: 税率 | C29: 選択 | D29: 0.1 | N29: 項目⑫で【内税】を選択した場合、【8％】または【10％】をお選びください。 ※【非課税】を選択した場合は、入力不要です。
A31: ■配送情報
A32: 配送の有無 | C32: 選択 | D32: 無 | N32: チケット・申込書等、寄附者様へ送付物がある場合、【有】をお選びください。 ※メール、電話連絡のみの場合、【無】をお選びください。
A33: 配送【有】を選択した場合、下記の項目をご入力ください。
A34: 配送名称 | C34: 任意 | N34: ご希望がある場合のみ、伝票に記載の商品名をご入力ください。
A35: 配送方法 | C35: 選択 | N35: 【普通郵便】、【書留】、【レターパック】、【ゆうパケット】、【ゆうパック】、【ネコポス】、【宅急便】、【電子メール】のいずれかをお選びください。
A36: 配送種別 | C36: 選択 | N36: 項目⑮で【ゆうパック】、【宅配便】を選択した場合、【常温】、【冷蔵】、【冷凍】のいずれかをお選びください。
A37: 配送サイズ | N37: 項目⑮で【ゆうパック】、【宅急便】を選択した場合、配送サイズをご入力ください。
A38: 送料 | C38: 選択 | N38: 【固定料金】または【地域別料金】をお選びください。
A39: 送料（固定料金） (税込) | N39: 項目⑰で【固定料金】を選択した場合、金額をご入力ください。
A40: 送料（地域別料金） (税込) | N40: 項目⑰で【地域別料金】を選択した場合、関東送料の金額をご入力ください。
A41: 配送期日 | C41: 注文確認f後 | K41: 日 程度で発送 | N41: 発注から発送までに必要な日数を、【7日】、【14日】、【21日】、【30日】、【45日】、【60日】からお選びください。
A42: 配送可能期間 | C42: 選択 | N42: 【通年】または【期間限定】をお選びください。
A43: 配送可能期間-開始日 | N43: 項目⑳で【期間限定】を選択した場合、開始日をご入力ください。 ※【通年】を選択した場合は、入力不要です。
A44: 配送可能期間-終了日 | N44: 項目⑳で【期間限定】を選択した場合、終了日をご入力ください。 ※【通年】を選択した場合は、入力不要です。
A45: 配送不可地域 | C45: ※寄附者様へは、【沖縄・離島配送不可】である旨をご案内しておりますが、実際にお申込みがあった場合には、配送を依頼させていただきます。 | N45: 配送不可地域がある場合、対象地域をご入力ください。 ※全国発送可能な場合は、なしとご入力ください。
...

Sheet 事務局-1
A1: 謝礼品番号
A2: 取扱年度
A3: 謝礼品名 | B3: =IF(類型1!C3="","",類型1!C3)
A4: 謝礼品名カナ | B4: =IF(類型1!D12="","",類型1!D12)
A5: 配送名称 | B5: =IF(類型1!D36="","",類型1!D36)
A6: 特設サイト名称
A7: ふるさとチョイス名称
A8: エフレジ名称
A9: 楽天名称
A10: ANA名称
A11: 東急名称
A12: Amazon名称
A13: 事業者 | B13: =IF(類型1!C6="","",類型1!C6)
A14: 謝礼品カテゴリー
A15: セット内容 | B15: =IF(類型1!C18="","",類型1!C18)
A16: 謝礼品紹介文 | B16: =IF(類型1!C17="","",類型1!C17)
A17: ステータス
A18: 表示設定
A19: 寄附設定金額
A20: 価格（税込み） | B20: =IF(類型1!C31="","",類型1!C31)
A21: 税区分 | B21: =IF(類型1!D32="","",類型1!D32)
A22: 税率 | B22: =IF(類型1!D33="","",類型1!D33)
A23: その他経費
A24: 送料 | B24: =IF(類型1!C41="","",類型1!C41) | C24: =IF(類型1!C42="","",類型1!C42)
A25: 送料反映
A26: 発送方法 | B26: =IF(類型1!D38="","",類型1!D38)
A27: 取り扱い方法
A28: Amazon配送
A29: 申込可能期間 | B29: =IF(類型1!D51="","",類型1!D51)
A30: 申込可能期間（開始日） | B30: =IF(類型1!D52="","",類型1!D52)
A31: 申込可能期間（終了日） | B31: =IF(類型1!D53="","",類型1!D53)
A32: 申込可能期間（自由入力欄）
A33: 申込可能期間アラート通知先
A34: 数量限定 | B34: =IF(類型1!D54="","",類型1!D54)
A35: 自由入力欄1 | B35: =IF(類型1!G43="","",類型1!G43) | D35: （発送期日）
A36: 自由入力欄2
A37: 自由入力欄3
A38: 自由入力欄4
A39: その他名称1
A40: その他名称2
...

Sheet 事務局-2
A1: 謝礼品番号
A2: 取扱年度
A3: 謝礼品名 | B3: =IF(類型2!C3="","",類型2!C3)
A4: 謝礼品名カナ | B4: =IF(類型2!D16="","",類型2!D16)
A5: 配送名称 | B5: =IF(類型2!D79="","",類型2!D79)
A6: 特設サイト名称
A7: ふるさとチョイス名称
A8: エフレジ名称
A9: 楽天名称
A10: ANA名称
A11: 東急名称
A12: Amazon名称
A13: 事業者 | B13: =IF(類型2!C10="","",類型2!C10)
A14: 謝礼品カテゴリー
A15: セット内容 | B15: =IF(類型2!C22="","",類型2!C22)
A16: 謝礼品紹介文 | B16: =IF(類型2!C21="","",類型2!C21)
A17: ステータス
A18: 表示設定
A19: 寄附設定金額
A20: 価格（税込み） | B20: =IF(類型2!C49="","",類型2!C49)
A21: 税区分 | B21: =IF(類型2!D50="","",類型2!D50)
A22: 税率 | B22: =IF(類型2!D51="","",類型2!D51)
A23: その他経費
A24: 送料 | B24: =IF(類型2!C84="","",類型2!C84) | C24: =IF(類型2!C85="","",類型2!C85)
A25: 送料反映
A26: 発送方法 | B26: =IF(類型2!D81="","",類型2!D81)
A27: 取り扱い方法
A28: Amazon配送
A29: 申込可能期間 | B29: =IF(類型2!D87="","",類型2!D87)
A30: 申込可能期間（開始日） | B30: =IF(類型2!C88="","",類型2!C88)
A31: 申込可能期間（終了日） | B31: =IF(類型2!C89="","",類型2!C89)
A32: 申込可能期間（自由入力欄）
A33: 申込可能期間アラート通知先
A34: 数量限定 | B34: =IF(類型2!C97="","",類型2!C97)
A35: 自由入力欄1 | B35: =IF(類型2!G86="","",類型2!G86) | D35: （発送期日）
A36: 自由入力欄2
A37: 自由入力欄3
A38: 自由入力欄4
A39: その他名称1
A40: その他名称2
...

Sheet 事務局-3
A1: 謝礼品番号
A2: 取扱年度
A3: 謝礼品名 | B3: =IF(類型3!C3="","",類型3!C3)
A4: 謝礼品名カナ | B4: =IF(類型3!D16="","",類型3!D16)
A5: 配送名称 | B5: =IF(類型3!D79="","",類型3!D79)
A6: 特設サイト名称
A7: ふるさとチョイス名称
A8: エフレジ名称
A9: 楽天名称
A10: ANA名称
A11: 東急名称
A12: Amazon名称
A13: 事業者 | B13: =IF(類型3!C10="","",類型3!C10)
A14: 謝礼品カテゴリー
A15: セット内容 | B15: =IF(類型3!C22="","",類型3!C22)
A16: 謝礼品紹介文 | B16: =IF(類型3!C21="","",類型3!C21)
A17: ステータス
A18: 表示設定
A19: 寄附設定金額
A20: 価格（税込み） | B20: =IF(類型3!C49="","",類型3!C49)
A21: 税区分 | B21: =IF(類型3!D50="","",類型3!D50)
A22: 税率 | B22: =IF(類型3!D51="","",類型3!D51)
A23: その他経費
A24: 送料 | B24: =IF(類型3!C84="","",類型3!C84) | C24: =IF(類型3!C85="","",類型3!C85)
A25: 送料反映
A26: 発送方法 | B26: =IF(類型3!D81="","",類型3!D81)
A27: 取り扱い方法
A28: Amazon配送
A29: 申込可能期間 | B29: =IF(類型3!D94="","",類型3!D94)
A30: 申込可能期間（開始日） | B30: =IF(類型3!C95="","",類型3!C95)
A31: 申込可能期間（終了日） | B31: =IF(類型3!C96="","",類型3!C96)
A32: 申込可能期間（自由入力欄）
A33: 申込可能期間アラート通知先
A34: 数量限定 | B34: =IF(類型3!C97="","",類型3!C97)
A35: 自由入力欄1 | B35: =IF(類型3!G86="","",類型3!G86) | D35: （発送期日）
A36: 自由入力欄2
A37: 自由入力欄3
A38: 自由入力欄4
A39: その他名称1
A40: その他名称2
...

Sheet 事務局-7
A1: 謝礼品番号
A2: 取扱年度
A3: 謝礼品名 | B3: =IF(類型7!C3="","",類型7!C3)
A4: 謝礼品名カナ | B4: =IF(類型7!D12="","",類型7!D12)
A5: 配送名称 | B5: =IF(類型7!D33="","",類型7!D33)
A6: 特設サイト名称
A7: ふるさとチョイス名称
A8: エフレジ名称
A9: 楽天名称
A10: ANA名称
A11: 東急名称
A12: Amazon名称
A13: 事業者 | B13: =IF(類型7!C6="","",類型7!C6)
A14: 謝礼品カテゴリー
A15: セット内容 | B15: =IF(類型7!C18="","",類型7!C18)
A16: 謝礼品紹介文 | B16: =IF(類型7!C17="","",類型7!C17)
A17: ステータス
A18: 表示設定
A19: 寄附設定金額
A20: 価格（税込み） | B20: =IF(類型7!C26="","",類型7!C26)
A21: 税区分 | B21: =IF(類型7!D27="","",類型7!D27)
A22: 税率 | B22: =IF(類型7!D28="","",類型7!D28)
A23: その他経費
A24: 送料 | B24: =IF(類型7!C38="","",類型7!C38) | C24: =IF(類型7!C39="","",類型7!C39)
A25: 送料反映
A26: 発送方法 | B26: =IF(類型7!D35="","",類型7!D35)
A27: 取り扱い方法
A28: Amazon配送
A29: 申込可能期間 | B29: =IF(類型7!D48="","",類型7!D48)
A30: 申込可能期間（開始日） | B30: =IF(類型7!C49="","",類型7!C49)
A31: 申込可能期間（終了日） | B31: =IF(類型7!C50="","",類型7!C50)
A32: 申込可能期間（自由入力欄）
A33: 申込可能期間アラート通知先
A34: 数量限定 | B34: =IF(類型7!C51="","",類型7!C51)
A35: 自由入力欄1 | B35: =IF(類型7!G40="","",類型7!G40) | D35: （発送期日）
A36: 自由入力欄2
A37: 自由入力欄3
A38: 自由入力欄4
A39: その他名称1
A40: その他名称2
...

Sheet 事務局-7の2
A1: 謝礼品番号
A2: 取扱年度
A3: 謝礼品名 | B3: =IF(類型7の2!C3="","",類型7の2!C3)
A4: 謝礼品名カナ | B4: =IF(類型7の2!D12="","",類型7の2!D12)
A5: 配送名称 | B5: =IF(類型7の2!D34="","",類型7の2!D34)
A6: 特設サイト名称
A7: ふるさとチョイス名称
A8: エフレジ名称
A9: 楽天名称
A10: ANA名称
A11: 東急名称
A12: Amazon名称
A13: 事業者 | B13: =IF(類型7の2!C6="","",類型7の2!C6)
A14: 謝礼品カテゴリー
A15: セット内容 | B15: =IF(類型7の2!C18="","",類型7の2!C18)
A16: 謝礼品紹介文 | B16: =IF(類型7の2!C17="","",類型7の2!C17)
A17: ステータス
A18: 表示設定
A19: 寄附設定金額
A20: 価格（税込み） | B20: =IF(類型7の2!C26="","",類型7の2!C26)
A21: 税区分 | B21: =IF(類型7の2!D28="","",類型7の2!D28)
A22: 税率 | B22: =IF(類型7の2!D29="","",類型7の2!D29)
A23: その他経費
A24: 送料 | B24: =IF(類型7の2!C39="","",類型7の2!C39) | C24: =IF(類型7の2!C40="","",類型7の2!C40)
A25: 送料反映
A26: 発送方法 | B26: =IF(類型7の2!D36="","",類型7の2!D36)
A27: 取り扱い方法
A28: Amazon配送
A29: 申込可能期間 | B29: =IF(類型7の2!D49="","",類型7の2!D49)
A30: 申込可能期間（開始日） | B30: =IF(類型7の2!C50="","",類型7の2!C50)
A31: 申込可能期間（終了日） | B31: =IF(類型7の2!C51="","",類型7の2!C51)
A32: 申込可能期間（自由入力欄）
A33: 申込可能期間アラート通知先
A34: 数量限定 | B34: =IF(類型7の2!C52="","",類型7の2!C52)
A35: 自由入力欄1 | B35: =IF(類型7の2!G41="","",類型7の2!G41) | D35: （発送期日）
A36: 自由入力欄2
A37: 自由入力欄3
A38: 自由入力欄4
A39: その他名称1
A40: その他名称2
...
