Workbook
Name 愛知県: テーブル23[愛知県]
Name 愛媛県: テーブル38[愛媛県]
Name 茨城県: テーブル8[茨城県]
Name 岡山県: テーブル33[岡山県]
Name 沖縄県: テーブル47[沖縄県]
Name 岩手県: テーブル3[岩手県]
Name 岐阜県: テーブル21[岐阜県]
Name 宮崎県: テーブル45[宮崎県]
Name 宮城県: テーブル4[宮城県]
Name 京都府: テーブル26[京都府]
Name 熊本県: テーブル43[熊本県]
Name 群馬県: テーブル10[群馬県]
Name 広島県: テーブル34[広島県]
Name 香川県: テーブル37[香川県]
Name 高知県: テーブル39[高知県]
Name 佐賀県: テーブル41[佐賀県]
Name 埼玉県: テーブル11[埼玉県]
Name 三重県: テーブル24[三重県]
Name 山形県: テーブル6[山形県]
Name 山口県: テーブル35[山口県]
Name 山梨県: テーブル19[山梨県]
Name 滋賀県: テーブル25[滋賀県]
Name 鹿児島県: テーブル46[鹿児島県]
Name 秋田県: テーブル5[秋田県]
Name 新潟県: テーブル15[新潟県]
Name 神奈川県: テーブル14[神奈川県]
Name 青森県: テーブル2[青森県]
Name 静岡県: テーブル22[静岡県]
Name 石川県: テーブル17[石川県]
Name 千葉県: テーブル12[千葉県]
Name 大阪府: テーブル27[大阪府]
Name 大分県: テーブル44[大分県]
Name 長崎県: テーブル42[長崎県]
Name 長野県: テーブル20[長野県]
Name 鳥取県: テーブル31[鳥取県]
Name 都道府県名: MST_市区町村!$C$3:$AW$3
Name 島根県: テーブル32[島根県]
Name 東京都: テーブル13[東京都]
Name 徳島県: テーブル36[徳島県]
Name 栃木県: テーブル9[栃木県]
Name 奈良県: テーブル29[奈良県]
Name 富山県: テーブル16[富山県]
Name 福井県: テーブル18[福井県]
Name 福岡県: テーブル40[福岡県]
Name 福島県: テーブル7[福島県]
Name 兵庫県: テーブル28[兵庫県]
Name 北海道: テーブル1[北海道]
Name 和歌山県: テーブル30[和歌山県]

Sheet 重要事項説明書
A2: 重要事項説明書
O3: Ver | P3: 1.4
B4: 記入年月日 | H4: 年 | K4: 月 | N4: 日
B5: 記入者名
B6: 所属・職名
B7: 取込種別 | S7: =IF(F7="","未記入","") -> 未記入
B8: 被災確認事業所番号 | S8: =IF($F$7=MST!C6,IF($F$8="","未記入",""),"")
A10: 1 | B10: 事業主体概要
B11: 種類
F12: ※法人の場合、その種類
B13: 名称 | F13: (ふりがな) | S13: =IF(H13="","未記入","") -> 未記入
S14: =IF(F14="","未記入","") -> 未記入
B15: 法人番号 | F15: 法人番号有無
F16: 法人番号
B17: 主たる事務所の所在地 | F17: 〒 | H17: - | S17: =IF(OR(G17="",I17=""),"未記入","") -> 未記入
S18: =IF(F18="","未記入","") -> 未記入
B19: 連絡先 | F19: 電話番号 | K19: - | M19: -
F20: FAX番号 | K20: - | M20: -
F21: メールアドレス | M21: @
F22: ホームページ有無
F23: ホームページアドレス | S23: =IF(J22=MST!F6,IF(OR(J23="",L23=""),"未記入",""),"")
B24: 代表者 | F24: 氏名
F25: 職名
B26: 設立年月日 | H26: 年 | K26: 月 | N26: 日
B27: 主な実施事業 | F27: ※別添1（別に実施する介護サービス一覧表）
A29: 2 | B29: 有料老人ホーム事業の概要
B30: （住まいの概要）
B31: 名称 | F31: (ふりがな) | S31: =IF(H31="","未記入","") -> 未記入
S32: =IF(F32="","未記入","") -> 未記入
B33: 所在地 | F33: 〒 | H33: - | S33: =IF(OR(G33="",I33=""),"未記入","") -> 未記入
S34: =IF(F34="","未記入","") -> 未記入
B35: 所在地（建物名等）
B36: 市区町村コード | F36: 都道府県 | J36: 市区町村 | S36: =IF(OR(H36="",L36=""),"未記入","") -> 未記入
B37: 主な利用交通手段 | F37: 最寄駅 | N37: 駅 | S37: =IF(J37="","未記入","") -> 未記入
F38: 交通手段と所要時間 | S38: =IF(J38="","未記入","") -> 未記入
B43: 連絡先 | F43: 電話番号 | K43: - | M43: - | S43: =IF(OR(J43="",L43="",N43=""),"未記入","") -> 未記入
F44: FAX番号 | K44: - | M44: -
F45: メールアドレス | M45: @
F46: ホームページ有無
F47: ホームページアドレス | S47: =IF(J46=MST!F6,IF(OR(J47="",L47=""),"未記入",""),"")
...

Sheet 別添１
A1: 別添１ | C1: 事業主体が当該都道府県、指定都市、中核市内で実施する他の介護サービス等
B2: 介護サービスの種類 | H2: 有無 | J2: 主な事業所の名称 | M2: 所在地 | R2: 併設 | S2: 隣接
B3: ＜居宅サービス＞
C4: 訪問介護
C5: 訪問入浴介護
C6: 訪問看護
C7: 訪問リハビリテーション
C8: 居宅療養管理指導
C9: 通所介護
C10: 通所リハビリテーション
C11: 短期入所生活介護
C12: 短期入所療養介護
C13: 特定施設入居者生活介護
C14: 福祉用具貸与
C15: 特定福祉用具販売
B16: ＜地域密着型サービス＞
C17: 定期巡回・随時対応型訪問介護看護
C18: 夜間対応型訪問介護
C19: 地域密着型通所介護
C20: 認知症対応型通所介護
C21: 小規模多機能型居宅介護
C22: 認知症対応型共同生活介護
C23: 地域密着型特定施設入居者生活介護
C24: 地域密着型介護老人福祉施設入所者生活介護
C25: 看護小規模多機能型居宅介護
B26: 居宅介護支援
B27: ＜居宅介護予防サービス＞
C28: 介護予防訪問入浴介護
C29: 介護予防訪問看護
C30: 介護予防訪問リハビリテーション
C31: 介護予防居宅療養管理指導
C32: 介護予防通所リハビリテーション
C33: 介護予防短期入所生活介護
C34: 介護予防短期入所療養介護
C35: 介護予防特定施設入居者生活介護
C36: 介護予防福祉用具貸与
C37: 特定介護予防福祉用具販売
B38: ＜地域密着型介護予防サービス＞
C39: 介護予防認知症対応型通所介護
C40: 介護予防小規模多機能型居宅介護
...

Sheet 別添２
A1: 別添２ | G1: 有料老人ホーム・サービス付き高齢者向け住宅が提供するサービスの一覧表
A2: 特定施設入居者生活介護（地域密着型・介護予防を含む）の指定の有無 | AQ2: =IF($AE$2="","未記入","") -> 未記入
J3: 特定施設入居者生活介護費で、実施するサービス（利用者一部負担※１） | P3: 個別の利用料金で、実施するサービス | AE3: 備 考
P4: （利用者が全額負担） | V4: 包含※２ | Y4: 都度※２
AB5: 料金※３
A6: 介護サービス
B7: 食事介助
B8: 排泄介助・おむつ交換
B9: おむつ代
B10: 入浴（一般浴）介助・清拭
B11: 特浴介助
B12: 身辺介助（移動・着替え等）
B13: 機能訓練
B14: 通院介助
B15: 口腔衛生管理
A16: 生活サービス
B17: 居室清掃
B18: リネン交換
B19: 日常の洗濯
B20: 居室配膳・下膳
B21: 入居者の嗜好に応じた特別な食事
B22: おやつ
B23: 理美容師による理美容サービス
B24: 買い物代行
B25: 役所手続き代行
B26: 金銭・貯金管理
A27: 健康管理サービス
B28: 定期健康診断
B29: 健康相談
B30: 生活指導・栄養指導
B31: 服薬支援
B32: 生活リズムの記録（排便・睡眠等）
A33: 入退院時・入院中のサービス
B34: 入退院時の同行
B35: 入院中の洗濯物交換・買い物
B36: 入院中の見舞い訪問
A37: ※１：利用者の所得等に応じて負担割合が変わる（１割～３割の利用者負担）。
A38: ※２：「あり」を記入したときは、各種サービスの費用が、月額のサービス費用に包含される場合と、サービス利用の都度払いによる場合に応じて、いずれかの欄に○を記入する。
A39: ※３：都度払いの場合、１回あたりの金額など、単位を明確にして記入する。

Sheet 別紙（フリー記載）※情報公表対象外

Sheet MST
B2: 0.共通 | X2: 1.事業主体概要 | AE2: 2.有料老人ホーム事業の概要 | AI2: 3.建物概要 | BT2: 4.サービスの内容 | BX2: 5.職員体制 | CB2: 6.利用料金 | CO2: 9.入居希望者への事前の情報開示 | CS2: 10.その他
Y3: ◆種類-大 | AB3: ◆種類-小 | AF3: ◆類型 | AJ3: ◆土地-所有関係 | AM3: ◆賃貸の種別 | AP3: ◆耐火構造 | AS3: ◆構造 | AV3: ◆建物-所有関係 | AY3: ◆居室区分 | BB3: ◆区分 | BE3: ◆エレベーター | BH3: ◆緊急通報装置等-居室 | BK3: ◆緊急通報装置等-便所 | BN3: ◆緊急通報装置等-浴室 | BQ3: ◆緊急通報装置等-その他 | BU3: ◆サービス | BY3: ◆職員配置比率 | CC3: ◆居住の権利形態 | CF3: ◆利用料金の支払い方式 | CI3: ◆入院等による不在時における利用料金の取扱い | CL3: ◆前払金の保全先 | CP3: ◆情報開示 | CT3: ◆運営懇談会 | CW3: ◆有料老人ホーム設置時の老人福祉法第29条第1項に規定する届出 | CZ3: ◆有料老人ホーム設置運営指導指「5.規模及び構造設備」に合致しない事項
C4: ◆種別 | F4: ◆漢字 | I4: ◆ひらがな | L4: ◆ホームページアドレス | O4: ◆○/空白 | R4: ◆時間 | U4: ◆分 | AF4: １ 介護付（一般型特定施設入居者生活介護を提供する場合） | AG4: 1 | AY4: １ 全室個室（縁故者個室含む） | AZ4: 1 | BB4: １ 一般居室個室 | BC4: 1 | BU4: １ 自ら実施 | CC4: １ 利用権方式 | CD4: 1 | CF4: １ 全額前払い方式 | CG4: 1 | CI4: １ 減額なし | CJ4: 1 | CP4: １ 入居希望者に公開 | CQ4: 1 | CW4: １ あり | CX4: 1
C5: １ 追加 | D5: 1 | L5: http:// | Y5: １ 個人 | Z5: 1 | AB5: １ 社会福祉法人（社協以外） | AC5: 1 | AF5: ２ 介護付（外部サービス利用型特定施設入居者生活介護を提供する場合） | AG5: 2 | AJ5: １ 事業者が自ら所有する土地 | AK5: 1 | AM5: １ 普通貸借 | AN5: 1 | AP5: １ 耐火建築物 | AQ5: 1 | AS5: １ 鉄筋コンクリート造 | AT5: 1 | AV5: １ 事業者が自ら所有する建物 | AW5: 1 | AY5: ２ 相部屋あり | AZ5: 2 | BB5: ２ 一般居室相部屋 | BC5: 2 | BE5: １ あり（車椅子対応） | BF5: 1 | BH5: １ 全ての居室あり | BI5: 1 | BK5: １ 全ての便所あり | BL5: 1 | BN5: １ 全ての浴室あり | BO5: 1 | BQ5: １ あり | BR5: 1 | BU5: ２ 委託 | BY5: ａ 1.5：１以上 | BZ5: a | CC5: ２ 建物賃貸借方式 | CD5: 2 | CF5: ２ 一部前払い・一部月払い方式 | CG5: 2 | CI5: ２ 日割り計算で減額 | CJ5: 2 | CL5: １ 全国有料老人ホーム協会 | CM5: 1 | CP5: ２ 入居希望者に交付 | CQ5: 2 | CT5: １ 代替措置あり | CU5: 1 | CW5: ２ なし | CX5: 2 | CZ5: １ 適合している（代替措置） | DA5: 1
C6: ２ 修正 | D6: 2 | F6: １ 有 | G6: 1 | I6: １ あり | J6: 1 | L6: https:// | O6: ○ | R6: 0 | U6: 0 | Y6: ２ 法人 | Z6: 2 | AB6: ２ 社会福祉法人（社協） | AC6: 2 | AF6: ３ 住宅型 | AG6: 3 | AJ6: ２ 事業者が賃借する土地 | AK6: 2 | AM6: ２ 定期貸借 | AN6: 2 | AP6: ２ 準耐火建築物 | AQ6: 2 | AS6: ２ 鉄骨造 | AT6: 2 | AV6: ２ 事業者が賃借する建物 | AW6: 2 | BB6: ３ 介護居室個室 | BC6: 3 | BE6: ２ あり（ストレッチャー対応） | BF6: 2 | BH6: ２ 一部居室あり | BI6: 2 | BK6: ２ 一部便所あり | BL6: 2 | BN6: ２ 一部浴室あり | BO6: 2 | BQ6: ２ 一部あり | BR6: 2 | BU6: ３ なし | BY6: ｂ ２：１以上 | BZ6: b | CC6: ３ 終身建物賃貸借方式 | CD6: 3 | CF6: ３ 月払い方式 | CG6: 3 | CI6: ３ 不在期間が○日以上の場合に限り、日割り計算で減額 | CJ6: 3 | CL6: ２ 連帯保証を行う銀行等 | CM6: 2 | CP6: ３ 公開していない | CQ6: 3 | CT6: ２ 代替措置なし | CU6: 2 | CW6: ３ サービス付き高齢者向け住宅の登録を行っているため、高齢者の居住の安定確保に関する法律第23条の規定により、届出が不要 | CX6: 3 | CZ6: ２ 適合している（将来の改善計画） | DA6: 2
F7: ２ 無 | G7: 2 | I7: ２ なし | J7: 2 | R7: 1 | U7: 1 | AB7: ３ 医療法人 | AC7: 3 | AF7: ４ 健康型 | AG7: 4 | AP7: ３ その他 | AQ7: 3 | AS7: ３ 木造 | AT7: 3 | BB7: ４ 介護居室相部屋 | BC7: 4 | BE7: ３ あり（１・２に該当しない） | BF7: 3 | BH7: ３ なし | BI7: 3 | BK7: ３ なし | BL7: 3 | BN7: ３ なし | BO7: 3 | BQ7: ３ なし | BR7: 3 | BY7: ｃ 2.5：１以上 | BZ7: c | CF7: ４ 選択方式 | CG7: 4 | CL7: ３ 信託契約を行う信託会社等 | CM7: 3 | CZ7: ３ 適合していない | DA7: 3
R8: 2 | U8: 2 | AB8: ４ 社団・財団 | AC8: 4 | AS8: ４ その他 | AT8: 4 | BB8: ５ 一時介護室 | BC8: 5 | BE8: ４ なし | BF8: 4 | BY8: ｄ ３：１以上 | BZ8: d | CL8: ４ 保証保険を行う保険会社 | CM8: 4
R9: 3 | U9: 3 | AB9: ５ 営利法人 | AC9: 5 | CL9: ５ その他 | CM9: 5
R10: 4 | U10: 4 | AB10: ６ ＮＰＯ法人 | AC10: 6
R11: 5 | U11: 5 | AB11: ７ 農協 | AC11: 7
R12: 6 | U12: 6 | AB12: ８ 生協 | AC12: 8
R13: 7 | U13: 7 | AB13: ９ その他法人 | AC13: 9
R14: 8 | U14: 8 | AB14: １０ 地方公共団体（都道府県） | AC14: 10
R15: 9 | U15: 9 | AB15: １１ 地方公共団体（市町村） | AC15: 11
R16: 10 | U16: 10 | AB16: １２ 地方公共団体（広域連合・一部事務組合等） | AC16: 12
R17: 11 | U17: 11 | AB17: １３ その他 | AC17: 13
R18: 12 | U18: 12
R19: 13 | U19: 13
R20: 14 | U20: 14
R21: 15 | U21: 15
R22: 16 | U22: 16
R23: 17 | U23: 17
R24: 18 | U24: 18
R25: 19 | U25: 19
R26: 20 | U26: 20
R27: 21 | U27: 21
R28: 22 | U28: 22
R29: 23 | U29: 23
R30: 24 | U30: 24
U31: 25
U32: 26
U33: 27
U34: 28
U35: 29
U36: 30
U37: 31
U38: 32
U39: 33
U40: 34
U41: 35
...

Sheet MST_市区町村
C2: ◆都道府県
C3: 北海道 | D3: 青森県 | E3: 岩手県 | F3: 宮城県 | G3: 秋田県 | H3: 山形県 | I3: 福島県 | J3: 茨城県 | K3: 栃木県 | L3: 群馬県 | M3: 埼玉県 | N3: 千葉県 | O3: 東京都 | P3: 神奈川県 | Q3: 新潟県 | R3: 富山県 | S3: 石川県 | T3: 福井県 | U3: 山梨県 | V3: 長野県 | W3: 岐阜県 | X3: 静岡県 | Y3: 愛知県 | Z3: 三重県 | AA3: 滋賀県 | AB3: 京都府 | AC3: 大阪府 | AD3: 兵庫県 | AE3: 奈良県 | AF3: 和歌山県 | AG3: 鳥取県 | AH3: 島根県 | AI3: 岡山県 | AJ3: 広島県 | AK3: 山口県 | AL3: 徳島県 | AM3: 香川県 | AN3: 愛媛県 | AO3: 高知県 | AP3: 福岡県 | AQ3: 佐賀県 | AR3: 長崎県 | AS3: 熊本県 | AT3: 大分県 | AU3: 宮崎県 | AV3: 鹿児島県 | AW3: 沖縄県
C4: 014567 愛別町 | D4: 022012 青森市 | E4: 032093 一関市 | F4: 042021 石巻市 | G4: 052019 秋田市 | H4: 063231 朝日町 | I4: 074217 会津坂下町 | J4: 084433 阿見町 | K4: 092029 足利市 | L4: 102113 安中市 | M4: 112194 上尾市 | N4: 122157 旭市 | O4: 134023 青ヶ島村 | P4: 144011 愛川町 | Q4: 152234 阿賀野市 | R4: 163431 朝日町 | S4: 174611 穴水町 | T4: 182087 あわら市 | U4: 193461 市川三郷町 | V4: 203491 青木村 | W4: 213837 安八町 | X4: 222054 熱海市 | Y4: 232327 愛西市 | Z4: 243434 朝日町 | AA4: 254258 愛荘町 | AB4: 262030 綾部市 | AC4: 272043 池田市 | AD4: 282081 相生市 | AE4: 294021 明日香村 | AF4: 303666 有田川町 | AG4: 313025 岩美町 | AH4: 325252 海士町 | AI4: 332135 赤磐市 | AJ4: 343684 安芸太田町 | AK4: 355020 阿武町 | AL4: 364037 藍住町 | AM4: 373877 綾川町 | AN4: 385069 愛南町 | AO4: 392031 安芸市 | AP4: 406091 赤村 | AQ4: 414018 有田町 | AR4: 422100 壱岐市 | AS4: 435147 あさぎり町 | AT4: 442119 宇佐市 | AU4: 453838 綾町 | AV4: 462250 姶良市 | AW4: 473553 粟国村
C5: 014095 赤井川村 | D5: 023213 鰺ヶ沢町 | E5: 035246 一戸町 | F5: 042111 岩沼市 | G5: 053660 井川町 | H5: 064033 飯豊町 | I5: 074471 会津美里町 | J5: 082058 石岡市 | K5: 093441 市貝町 | L5: 102041 伊勢崎市 | M5: 112275 朝霞市 | N5: 122220 我孫子市 | O5: 132071 昭島市 | P5: 142123 厚木市 | Q5: 153851 阿賀町 | R5: 162116 射水市 | S5: 173657 内灘町 | T5: 183822 池田町 | U5: 192121 上野原市 | V5: 204226 上松町 | W5: 214043 池田町 | X5: 222224 伊豆市 | Y5: 234419 阿久比町 | Z5: 242161 伊賀市 | AA5: 252042 近江八幡市 | AB5: 263435 井手町 | AC5: 272060 泉大津市 | AD5: 282031 明石市 | AE5: 293458 安堵町 | AF5: 302040 有田市 | AG5: 312037 倉吉市 | AH5: 323861 飯南町 | AI5: 332160 浅口市 | AJ5: 342149 安芸高田市 | AK5: 352080 岩国市 | AL5: 362042 阿南市 | AM5: 373869 宇多津町 | AN5: 384429 伊方町 | AO5: 393860 いの町 | AP5: 402281 朝倉市 | AQ5: 412058 伊万里市 | AR5: 422045 諫早市 | AS5: 434825 芦北町 | AT5: 442062 臼杵市 | AU5: 452092 えびの市 | AV5: 462063 阿久根市 | AW5: 473154 伊江村
C6: 012181 赤平市 | D6: 023817 板柳町 | E6: 034835 岩泉町 | F6: 043214 大河原町 | G6: 054631 羽後町 | H6: 063410 大石田町 | I6: 072028 会津若松市 | J6: 082236 潮来市 | K6: 092011 宇都宮市 | L6: 105210 板倉町 | M6: 113018 伊奈町 | N6: 122386 いすみ市 | O6: 132284 あきる野市 | P6: 142182 綾瀬市 | Q6: 155861 粟島浦村 | R6: 162043 魚津市 | S6: 172065 加賀市 | T6: 183229 永平寺町 | U6: 192066 大月市 | V6: 204510 朝日村 | W6: 214019 揖斐川町 | X6: 222259 伊豆の国市 | Y6: 232378 あま市 | Z6: 242039 伊勢市 | AA6: 252018 大津市 | AB6: 264636 伊根町 | AC6: 272132 泉佐野市 | AD6: 282120 赤穂市 | AE6: 293440 斑鳩町 | AF6: 303909 印南町 | AG6: 314030 江府町 | AH6: 322032 出雲市 | AI6: 332071 井原市 | AJ6: 342157 江田島市 | AK6: 352021 宇部市 | AL6: 362069 阿波市 | AM6: 372056 観音寺市 | AN6: 382027 今治市 | AO6: 393061 馬路村 | AP6: 403814 芦屋町 | AQ6: 412091 嬉野市 | AR6: 422134 雲仙市 | AS6: 432148 阿蘇市 | AT6: 442011 大分市 | AU6: 454214 門川町 | AV6: 465313 天城町 | AW6: 472077 石垣市
C7: 012041 旭川市 | D7: 023671 田舎館村 | E7: 033031 岩手町 | F7: 042153 大崎市 | G7: 053686 大潟村 | H7: 063240 大江町 | I7: 075043 浅川町 | J7: 082295 稲敷市 | K7: 092100 大田原市 | L7: 103667 上野村 | M7: 112259 入間市 | N7: 122033 市川市 | O7: 131211 足立区 | P7: 142140 伊勢原市 | Q7: 154059 出雲崎町 | R7: 162094 小矢部市 | S7: 172014 金沢市 | T7: 182095 越前市 | U7: 194247 忍野村 | V7: 204072 阿智村 | W7: 212105 恵那市 | X7: 222089 伊東市 | Y7: 232122 安城市 | Z7: 242144 いなべ市 | AA7: 252069 草津市 | AB7: 262048 宇治市 | AC7: 272191 和泉市 | AD7: 282251 朝来市 | AE7: 292095 生駒市 | AF7: 302091 岩出市 | AG7: 313718 琴浦町 | AH7: 322091 雲南市 | AI7: 331007 岡山市 | AJ7: 344311 大崎上島町 | AK7: 353418 上関町 | AL7: 363413 石井町 | AM7: 374032 琴平町 | AN7: 382108 伊予市 | AO7: 393649 大川村 | AP7: 402052 飯塚市 | AQ7: 414239 大町町 | AR7: 422053 大村市 | AS7: 432156 天草市 | AT7: 442101 杵築市 | AU7: 454052 川南町 | AV7: 462225 奄美市 | AW7: 473600 伊是名村
C8: 012165 芦別市 | D8: 023035 今別町 | E8: 032158 奥州市 | F8: 044229 大郷町 | G8: 052043 大館市 | H8: 063657 大蔵村 | I8: 075647 飯舘村 | J8: 083020 茨城町 | K8: 092088 小山市 | L8: 105252 邑楽町 | M8: 113654 小鹿野町 | N8: 124214 一宮町 | O8: 131181 荒川区 | P8: 142158 海老名市 | Q8: 152161 糸魚川市 | R8: 163228 上市町 | S8: 172090 かほく市 | T8: 184233 越前町 | U8: 192104 甲斐市 | V8: 202207 安曇野市 | W8: 212024 大垣市 | X8: 222119 磐田市 | Y8: 232033 一宮市 | Z8: 244431 大台町 | AA8: 252093 甲賀市 | AB8: 263443 宇治田原町 | AC8: 272116 茨木市 | AD8: 282065 芦屋市 | AE8: 292125 宇陀市 | AF8: 302023 海南市 | AG8: 312045 境港市 | AH8: 322059 大田市 | AI8: 336068 鏡野町 | AJ8: 342114 大竹市 | AK8: 352071 下松市 | AL8: 364045 板野町 | AM8: 372030 坂出市 | AN8: 384224 内子町 | AO8: 394246 大月町 | AP8: 402303 糸島市 | AQ8: 412082 小城市 | AR8: 423831 小値賀町 | AS8: 432041 荒尾市 | AT8: 444626 玖珠町 | AU8: 454044 木城町 | AV8: 462241 伊佐市 | AW8: 472107 糸満市
C9: 016471 足寄町 | D9: 024121 おいらせ町 | E9: 034614 大槌町 | F9: 044245 大衡村 | G9: 052060 男鹿市 | H9: 064017 小国町 | I9: 075019 石川町 | J9: 082198 牛久市 | K9: 092053 鹿沼市 | L9: 105244 大泉町 | M9: 113433 小川町 | N9: 122190 市原市 | O9: 131199 板橋区 | P9: 143413 大磯町 | Q9: 152251 魚沼市 | R9: 162078 黒部市 | S9: 173240 川北町 | T9: 184837 おおい町 | U9: 192139 甲州市 | V9: 204048 阿南町 | W9: 214035 大野町 | X9: 222232 御前崎市 | Y9: 232203 稲沢市 | Z9: 242098 尾鷲市 | AA9: 254428 甲良町 | AB9: 263036 大山崎町 | AC9: 272311 大阪狭山市 | AD9: 282022 尼崎市 | AE9: 294250 王寺町 | AF9: 303411 かつらぎ町 | AG9: 313866 大山町 | AH9: 324493 邑南町 | AI9: 332054 笠岡市 | AJ9: 342050 尾道市 | AK9: 352161 山陽小野田市 | AL9: 363880 海陽町 | AM9: 372064 さぬき市 | AN9: 382035 宇和島市 | AO9: 393444 大豊町 | AP9: 406040 糸田町 | AQ9: 412074 鹿島市 | AR9: 423220 川棚町 | AS9: 435112 五木村 | AT9: 442143 国東市 | AU9: 452076 串間市 | AV9: 462080 出水市 | AW9: 473596 伊平屋村
C10: 016624 厚岸町 | D10: 024236 大間町 | E10: 032034 大船渡市 | F10: 045811 女川町 | G10: 052116 潟上市 | H10: 062120 尾花沢市 | I10: 074641 泉崎村 | J10: 083097 大洗町 | K10: 093017 上三川町 | L10: 102059 太田市 | M10: 112313 桶川市 | N10: 122319 印西市 | O10: 132250 稲城市 | P10: 143626 大井町 | Q10: 152081 小千谷市 | R10: 162027 高岡市 | S10: 172031 小松市 | T10: 182052 大野市 | U10: 192015 甲府市 | V10: 203840 飯島町 | W10: 212211 海津市 | X10: 223441 小山町 | Y10: 232157 犬山市 | Z10: 242101 亀山市 | AA10: 252115 湖南市 | AB10: 263648 笠置町 | AC10: 271004 大阪市 | AD10: 282260 淡路市 | AE10: 294420 大淀町 | AF10: 304042 上富田町 | AG10: 313289 智頭町 | AH10: 325287 隠岐の島町 | AI10: 336815 吉備中央町 | AJ10: 343048 海田町 | AK10: 352012 下関市 | AL10: 363014 勝浦町 | AM10: 373249 小豆島町 | AN10: 382078 大洲市 | AO10: 394033 越知町 | AP10: 402257 うきは市 | AQ10: 413453 上峰町 | AR10: 422118 五島市 | AS10: 432130 宇城市 | AT10: 444618 九重町 | AU10: 453820 国富町 | AV10: 465321 伊仙町 | AW10: 472085 浦添市
C11: 013633 厚沢部町 | D11: 023621 大鰐町 | E11: 033812 金ケ崎町 | F11: 042081 角田市 | G11: 052094 鹿角市 | H11: 063614 金山町 | I11: 074080 猪苗代町 | J11: 082368 小美玉市 | K11: 092142 さくら市 | L11: 104434 片品村 | M11: 113271 越生町 | N11: 122271 浦安市 | O11: 131237 江戸川区 | P11: 142069 小田原市 | Q11: 152056 柏崎市 | R11: 163236 立山町 | S11: 173843 志賀町 | T11: 182044 小浜市 | U11: 194425 小菅村 | V11: 202053 飯田市 | W11: 212130 各務原市 | X11: 222135 掛川市 | Y11: 232289 岩倉市 | Z11: 243442 川越町 | AA11: 252123 高島市 | AB11: 262064 亀岡市 | AC11: 272086 貝塚市 | AD11: 282073 伊丹市 | AE11: 292052 橿原市 | AF11: 304271 北山村 | AG11: 312011 鳥取市 | AH11: 323438 奥出雲町 | AI11: 336637 久米南町 | AJ11: 343692 北広島町 | AK11: 352152 周南市 | AL11: 364053 上板町 | AM11: 372048 善通寺市 | AN11: 383562 上島町 | AO11: 392120 香美市 | AP11: 403415 宇美町 | AQ11: 412023 唐津市 | AR11: 422126 西海市 | AS11: 432113 宇土市 | AT11: 442054 佐伯市 | AU11: 452050 小林市 | AV11: 462195 いちき串木野市 | AW11: 472131 うるま市
C12: 015814 厚真町 | D12: 024252 風間浦村 | E12: 032115 釜石市 | F12: 044458 加美町 | G12: 053279 上小阿仁村 | H12: 063215 河北町 | I12: 072044 いわき市 | J12: 082163 笠間市 | K12: 092045 佐野市 | L12: 104442 川場村 | M12: 112143 春日部市 | N12: 122394 大網白里市 | O12: 132055 青梅市 | P12: 143669 開成町 | Q12: 152099 加茂市 | R12: 162086 砺波市 | S12: 172057 珠洲市 | T12: 182061 勝山市 | U12: 193844 昭和町 | V12: 205907 飯綱町 | W12: 213039 笠松町 | X12: 223026 河津町 | Y12: 233617 大口町 | Z12: 243035 木曽岬町 | AA12: 254436 多賀町 | AB12: 262145 木津川市 | AC12: 272213 柏原市 | AD12: 284424 市川町 | AE12: 292109 香芝市 | AF12: 302082 紀の川市 | AG12: 313891 南部町 | AH12: 324418 川本町 | AI12: 332020 倉敷市 | AJ12: 343072 熊野町 | AK12: 353051 周防大島町 | AL12: 363022 上勝町 | AM12: 372013 高松市 | AN12: 384887 鬼北町 | AO12: 393053 北川村 | AP12: 402125 大川市 | AQ12: 412104 神埼市 | AR12: 423912 佐々町 | AS12: 434256 産山村 | AT12: 442089 竹田市 | AU12: 454435 五ヶ瀬町 | AV12: 462101 指宿市 | AW12: 473022 大宜味村
C13: 012114 網走市 | D13: 022047 黒石市 | E13: 035017 軽米町 | F13: 043249 川崎町 | G13: 052132 北秋田市 | H13: 062073 上山市 | I13: 075451 大熊町 | J13: 082228 鹿嶋市 | K13: 093840 塩谷町 | L13: 103675 神流町 | M13: 112101 加須市 | N13: 124419 大多喜町 | O13: 133612 大島町 | P13: 142042 鎌倉市 | Q13: 155047 刈羽村 | R13: 162019 富山市 | S13: 173614 津幡町 | T13: 182109 坂井市 | U13: 194433 丹波山村 | V13: 202134 飯山市 | W13: 212148 可児市 | X13: 224294 川根本町 | Y13: 234249 大治町 | Z13: 245623 紀宝町 | AA13: 254410 豊郷町 | AB13: 262111 京田辺市 | AC13: 272302 交野市 | AD13: 283011 猪名川町 | AE13: 292117 葛城市 | AF13: 303046 紀美野町 | AG13: 314013 日南町 | AH13: 322075 江津市 | AI13: 334456 里庄町 | AJ13: 342025 呉市 | AK13: 353434 田布施町 | AL13: 363421 神山町 | AM13: 374041 多度津町 | AN13: 383864 久万高原町 | AO13: 394289 黒潮町 | AP13: 405221 大木町 | AQ13: 413411 基山町 | AR13: 422029 佐世保市 | AS13: 434035 大津町 | AT13: 442071 津久見市 | AU13: 452084 西都市 | AV13: 465241 宇検村 | AW13: 472115 沖縄市
C14: 015857 安平町 | D14: 022055 五所川原市 | E14: 032069 北上市 | F14: 042137 栗原市 | G14: 053031 小坂町 | H14: 063827 川西町 | I14: 073229 大玉村 | J14: 082309 かすみがうら市 | K14: 092169 下野市 | L14: 103845 甘楽町 | M14: 113832 神川町 | N14: 124435 御宿町 | O14: 131113 大田区 | P14: 141305 川崎市 | Q14: 152188 五泉市 | R14: 162060 滑川市 | S14: 174076 中能登町 | T14: 182079 鯖江市 | U14: 192147 中央市 | V14: 204480 生坂村 | W14: 215031 川辺町 | X14: 223255 函南町 | Y14: 232238 大府市 | Z14: 245437 紀北町 | AA14: 252034 長浜市 | AB14: 262129 京丹後市 | AC14: 272230 門真市 | AD14: 283819 稲美町 | AE14: 294519 上北山村 | AF14: 304280 串本町 | AG14: 313840 日吉津村 | AH14: 325279 知夫村 | AI14: 336220 勝央町 | AJ14: 343099 坂町 | AK14: 352110 長門市 | AL14: 364029 北島町 | AM14: 373222 土庄町 | AN14: 382060 西条市 | AO14: 393070 芸西村 | AP14: 406082 大任町 | AQ14: 413879 玄海町 | AR14: 422037 島原市 | AS14: 434248 小国町 | AT14: 442038 中津市 | AU14: 454303 椎葉村 | AV14: 464686 大崎町 | AW14: 473111 恩納村
... C18: 014028 岩内町 | D18: 024023 七戸町 | E18: 033014 雫石町 | F18: 044440 色麻町 | G18: 052141 にかほ市 | H18: 064289 庄内町 | I18: 074454 金山町 | J18: 082040 古河市 | K18: 092151 那須烏山市 | L18: 103829 下仁田町 | M18: 113468 川島町 | N18: 122246 鎌ケ谷市 | O18: 131172 北区 | P18: 142166 座間市 | Q18: 152226 上越市 | R18: 163210 舟橋村 | S18: 172111 能美市 | T18: 184047 南越前町 | U18: 193666 南部町 | V18: 204129 売木村 | W18: 212199 郡上市 | X18: 221007 静岡市 | Y18: 234257 蟹江町 | Z18: 242152 志摩市 | AA18: 252140 米原市 | AB18: 262072 城陽市 | AC18: 273619 熊取町 | AD18: 282286 加東市 | AE18: 294241 上牧町 | AF18: 302058 御坊市 | AG18: 313645 三朝町 | AH18: 322041 益田市 | AI18: 332097 高梁市 | AJ18: 342033 竹原市 | AK18: 352063 防府市 | AL18: 362018 徳島市 | AM18: 374067 まんのう町 | AN18: 384020 砥部町 | AO18: 392103 四万十市 | AP18: 402168 小郡市 | AQ18: 412040 多久市 | AR18: 422011 長崎市 | AS18: 434043 菊陽町 | AT18: 442127 豊後大野市 | AU18: 453617 高原町 | AV18: 464929 肝付町 | AW18: 473146 金武町
C19: 012106 岩見沢市 | D19: 024503 新郷村 | E19: 033219 紫波町 | F19: 043028 七ヶ宿町 | G19: 052027 能代市 | H19: 064025 白鷹町 | I19: 075442 川内村 | J19: 085421 五霞町 | K19: 092134 那須塩原市 | L19: 104485 昭和村 | M19: 112330 北本市 | N19: 122238 鴨川市 | O19: 132217 清瀬市 | P19: 142085 逗子市 | Q19: 153079 聖籠町 | S19: 172073 羽咋市 | T19: 184420 美浜町 | U19: 194239 西桂町 | V19: 204293 王滝村 | W19: 212202 下呂市 | X19: 222097 島田市 | Y19: 232106 刈谷市 | Z19: 242071 鈴鹿市 | AA19: 252077 守山市 | AB19: 263664 精華町 | AC19: 271403 堺市 | AD19: 284467 神河町 | AE19: 294446 黒滝村 | AF19: 304018 白浜町 | AG19: 313297 八頭町 | AH19: 322016 松江市 | AI19: 332046 玉野市 | AJ19: 342131 廿日市市 | AK19: 352136 美祢市 | AL19: 363685 那賀町 | AM19: 373419 三木町 | AN19: 382051 新居浜市 | AO19: 394122 四万十町 | AP19: 403849 遠賀町 | AQ19: 412066 武雄市 | AR19: 423076 長与町 | AS19: 433641 玉東町 | AT19: 442097 豊後高田市 | AU19: 454061 都農町 | AV19: 462187 霧島市 | AW19: 473138 宜野座村
C20: 012271 歌志内市 | D20: 023078 外ヶ浜町 | E20: 034410 住田町 | F20: 044041 七ヶ浜町 | G20: 053635 八郎潟町 | H20: 062057 新庄市 | I20: 073083 川俣町 | J20: 085464 境町 | K20: 094072 那須町 | L20: 103446 榛東村 | M20: 112062 行田市 | N20: 122068 木更津市 | O20: 132152 国立市 | P20: 142077 茅ヶ崎市 | Q20: 155811 関川村 | S20: 172103 白山市 | T20: 185019 若狭町 | U20: 192074 韮崎市 | V20: 204307 大桑村 | W20: 213811 神戸町 | X20: 223417 清水町 | Y20: 232149 蒲郡市 | Z20: 244716 大紀町 | AA20: 252107 野洲市 | AB20: 262099 長岡京市 | AC20: 272299 四條畷市 | AD20: 284815 上郡町 | AE20: 294268 広陵町 | AF20: 302074 新宮市 | AG20: 313700 湯梨浜町 | AH20: 324485 美郷町 | AI20: 332038 津山市 | AJ20: 342122 東広島市 | AK20: 352128 柳井市 | AL20: 362026 鳴門市 | AM20: 372081 三豊市 | AN20: 384011 松前町 | AO20: 392081 宿毛市 | AP20: 402184 春日市 | AQ20: 414417 太良町 | AR20: 423238 波佐見町 | AS20: 435139 球磨村 | AT20: 442020 別府市 | AU20: 454036 西米良村 | AV20: 464902 錦江町 | AW20: 472051 宜野湾市
C21: 014311 浦臼町 | D21: 024431 田子町 | E21: 032166 滝沢市 | F21: 043231 柴田町 | G21: 053490 八峰町 | H21: 063819 高畠町 | I21: 072087 喜多方市 | J21: 082317 桜川市 | K21: 092061 日光市 | L21: 102024 高崎市 | M21: 112321 久喜市 | N21: 122254 君津市 | O21: 133647 神津島村 | P21: 143618 中井町 | Q21: 152277 胎内市 | S21: 173860 宝達志水町 | U21: 193640 早川町 | V21: 204170 大鹿村 | W21: 215015 坂祝町 | X21: 222194 下田市 | Y21: 232343 北名古屋市 | Z21: 244414 多気町 | AA21: 252085 栗東市 | AB21: 262137 南丹市 | AC21: 273015 島本町 | AD21: 285854 香美町 | AE21: 292079 五條市 | AF21: 304069 すさみ町 | AG21: 312029 米子市 | AH21: 322067 安来市 | AI21: 336238 奈義町 | AJ21: 341002 広島市 | AK21: 352039 山口市 | AL21: 364894 東みよし町 | AN21: 384844 松野町 | AO21: 392065 須崎市 | AP21: 403491 粕屋町 | AQ21: 412031 鳥栖市 | AR21: 423211 東彼杵町 | AS21: 431001 熊本市 | AT21: 442135 由布市 | AU21: 452041 日南市 | AV21: 462152 薩摩川内市 | AW21: 473014 国頭村
C22: 016071 浦河町 | D22: 022098 つがる市 | E22: 034843 田野畑村 | F22: 042064 白石市 | G22: 054640 東成瀬村 | H22: 062031 鶴岡市 | I22: 074021 北塩原村 | J22: 082104 下妻市 | K22: 093645 野木町 | L22: 104281 高山村 | M22: 112020 熊谷市 | N22: 124630 鋸南町 | O22: 131083 江東区 | P22: 143421 二宮町 | Q22: 153613 田上町 | S22: 172049 輪島市 | U22: 192112 笛吹市 | V22: 202126 大町市 | W22: 215066 白川町 | X22: 222208 裾野市 | Y22: 232335 清須市 | Z22: 244619 玉城町 | AA22: 253847 竜王町 | AB22: 262013 福知山市 | AC22: 272051 吹田市 | AD22: 282171 川西市 | AE22: 292087 御所市 | AF22: 304221 太地町 | AG22: 313254 若桜町 | AH22: 325058 吉賀町 | AI22: 332101 新見市 | AJ22: 342076 福山市 | AK22: 353213 和木町 | AL22: 364011 松茂町 | AN22: 382019 松山市 | AO22: 393037 田野町 | AP22: 402273 嘉麻市 | AQ22: 413461 みやき町 | AR22: 422070 平戸市 | AS22: 434442 甲佐町 | AU22: 452033 延岡市 | AV22: 463922 さつま町 | AW22: 473618 久米島町
C23: 016497 浦幌町 | D23: 023841 鶴田町 | E23: 032085 遠野市 | F23: 041009 仙台市 | G23: 053465 藤里町 | H23: 062103 天童市 | I23: 073032 国見町 | J23: 083101 城里町 | K23: 093459 芳賀町 | L23: 102075 館林市 | M23: 112178 鴻巣市 | N23: 124036 九十九里町 | O23: 132101 小金井市 | P23: 143821 箱根町 | Q23: 154822 津南町 | U23: 194301 富士河口湖町 | V23: 202045 岡谷市 | W23: 216046 白川村 | X23: 223425 長泉町 | Y23: 235016 幸田町 | Z23: 242012 津市 | AB23: 262021 舞鶴市 | AC23: 272248 摂津市 | AD23: 281000 神戸市 | AE23: 292061 桜井市 | AF23: 302066 田辺市 | AI23: 336432 西粟倉村 | AJ23: 342084 府中市 | AL23: 363871 美波町 | AN23: 382043 八幡浜市 | AO23: 394114 津野町 | AP23: 406058 川崎町 | AQ23: 413275 吉野ヶ里町 | AR23: 422088 松浦市 | AS23: 432164 合志市 | AU23: 454427 日之影町 | AV23: 462217 志布志市 | AW23: 473545 座間味村
C24: 014362 雨竜町 | D24: 024082 東北町 | E24: 033669 西和賀町 | F24: 044211 大和町 | G24: 054348 美郷町 | H24: 063673 戸沢村 | I24: 073016 桑折町 | J24: 082112 常総市 | K24: 093424 益子町 | L24: 104647 玉村町 | M24: 112224 越谷市 | N24: 123421 神崎町 | O24: 132144 国分寺市 | P24: 142115 秦野市 | Q24: 152137 燕市 | U24: 193682 富士川町 | V24: 205885 小川村 | W24: 213624 関ケ原町 | X24: 223069 西伊豆町 | Y24: 232173 江南市 | Z24: 243248 東員町 | AB24: 263672 南山城村 | AC24: 272281 泉南市 | AD24: 285013 佐用町 | AE24: 293431 三郷町 | AF24: 304212 那智勝浦町 | AI24: 334235 早島町 | AJ24: 343021 府中町 | AL24: 362077 美馬市 | AO24: 393011 東洋町 | AP24: 406015 香春町 | AR24: 422142 南島原市 | AS24: 435104 相良村 | AU24: 452068 日向市 | AV24: 465259 瀬戸内町 | AW24: 473812 竹富町
C25: 013617 江差町 | D25: 022063 十和田市 | E25: 032131 二戸市 | F25: 042099 多賀城市 | G25: 053481 三種町 | H25: 063029 中山町 | I25: 072036 郡山市 | J25: 082147 高萩市 | K25: 093611 壬生町 | L25: 105236 千代田町 | M25: 111007 さいたま市 | N25: 123293 栄町 | O25: 132110 小平市 | P25: 143014 葉山町 | Q25: 152102 十日町市 | U25: 192023 富士吉田市 | V25: 204862 小谷村 | W25: 212059 関市 | X25: 222038 沼津市 | Y25: 232190 小牧市 | Z25: 242110 鳥羽市 | AB25: 262056 宮津市 | AC25: 273813 太子町 | AD25: 282197 三田市 | AE25: 294438 下市町 | AF25: 302031 橋本市 | AI25: 332119 備前市 | AJ25: 342041 三原市 | AL25: 362085 三好市 | AO25: 392057 土佐市 | AP25: 406210 苅田町 | AS25: 434281 高森町 | AU25: 454311 美郷町 | AV25: 462179 曽於市 | AW25: 473758 多良間村
C26: 015148 枝幸町 | D26: 023876 中泊町 | E26: 035033 野田村 | F26: 042161 富谷市 | G26: 052078 湯沢市 | H26: 062090 長井市 | I26: 074845 鮫川村 | J26: 083640 大子町 | K26: 092096 真岡市 | L26: 104256 嬬恋村 | M26: 112399 坂戸市 | N26: 122122 佐倉市 | O26: 132195 狛江市 | P26: 142034 平塚市 | Q26: 152021 長岡市 | U26: 192091 北杜市 | V26: 205419 小布施町 | W26: 212032 高山市 | X26: 221309 浜松市 | Y26: 235610 設楽町 | Z26: 242080 名張市 | AB26: 262081 向日市 | AC26: 272256 高石市 | AD26: 282278 宍粟市 | AE26: 294501 下北山村 | AF26: 303925 日高川町 | AI26: 332143 真庭市 | AJ26: 342092 三次市 | AL26: 363839 牟岐町 | AO26: 392090 土佐清水市 | AP26: 401005 北九州市 | AS26: 432067 玉名市 | AU26: 453412 三股町 | AV26: 465275 龍郷町 | AW26: 473260 北谷町
C27: 012319 恵庭市 | D27: 024457 南部町 | E27: 032140 八幡平市 | F27: 042129 登米市 | G27: 052108 由利本荘市 | H27: 062138 南陽市 | I27: 073628 下郷町 | J27: 082279 筑西市 | K27: 093432 茂木町 | L27: 102105 富岡市 | M27: 112402 幸手市 | N27: 122378 山武市 | O27: 131091 品川区 | P27: 142051 藤沢市 | Q27: 151009 新潟市 | U27: 192082 南アルプス市 | V27: 204463 麻績村 | W27: 212041 多治見市 | X27: 223018 東伊豆町 | Y27: 232211 新城市 | Z27: 242047 松阪市 | AB27: 262102 八幡市 | AC27: 272078 高槻市 | AD27: 285862 新温泉町 | AE27: 293857 曽爾村 | AF27: 303828 日高町 | AI27: 336661 美咲町 | AL27: 362051 吉野川市 | AO27: 393631 土佐町 | AP27: 404021 鞍手町 | AS27: 435058 多良木町 | AU27: 452025 都城市 | AV27: 462144 垂水市 | AW27: 473537 渡嘉敷村
C28: 012173 江別市 | D28: 023434 西目屋村 | E28: 032051 花巻市 | F28: 042072 名取市 | G28: 052035 横手市 | H28: 063223 西川町 | I28: 074462 昭和村 | J28: 082201 つくば市 | K28: 092118 矢板市 | L28: 104213 中之条町 | M28: 112151 狭山市 | N28: 123226 酒々井町 | O28: 131130 渋谷区 | P28: 143634 松田町 | Q28: 152111 見附市 | U28: 193658 身延町 | V28: 203211 軽井沢町 | W28: 213616 垂井町 | X28: 222160 袋井市 | Y28: 232041 瀬戸市 | Z28: 244724 南伊勢町 | AB28: 264652 与謝野町 | AC28: 273627 田尻町 | AD28: 282057 洲本市 | AE28: 294012 高取町 | AF28: 303623 広川町 | AI28: 332151 美作市 | AO28: 394017 中土佐町 | AP28: 402036 久留米市 | AS28: 434841 津奈木町 | AU28: 452017 宮崎市 | AV28: 465348 知名町 | AW28: 473561 渡名喜村
C29: 016098 えりも町 | D29: 024015 野辺地町 | E29: 034029 平泉町 | F29: 042145 東松島市 | H29: 062111 東根市 | I29: 072052 白河市 | J29: 082350 つくばみらい市 | L29: 104248 長野原町 | M29: 112283 志木市 | N29: 124095 芝山町 | O29: 131041 新宿区 | P29: 143839 真鶴町 | Q29: 152269 南魚沼市 | U29: 194255 山中湖村 | V29: 203041 川上村 | W29: 212121 土岐市 | X29: 222143 藤枝市 | Y29: 232271 高浜市 | Z29: 245615 御浜町 | AB29: 263656 和束町 | AC29: 273414 忠岡町 | AD29: 284645 太子町 | AE29: 293636 田原本町 | AF29: 303917 みなべ町 | AI29: 334618 矢掛町 | AO29: 393029 奈半利町 | AP29: 404217 桂川町 | AS29: 433683 長洲町 | AU29: 454290 諸塚村 | AV29: 465305 徳之島町 | AW29: 472123 豊見城市
C30: 015555 遠軽町 | D30: 024465 階上町 | E30: 035076 洋野町 | F30: 044016 松島町 | H30: 063631 舟形町 | I30: 075612 新地町 | J30: 082031 土浦市 | L30: 103837 南牧村 | M30: 112461 白岡市 | N30: 124249 白子町 | O30: 131156 杉並区 | P30: 142107 三浦市 | Q30: 152170 妙高市 | U30: 192058 山梨市 | V30: 205621 木島平村 | W30: 215023 富加町 | X30: 222101 富士市 | Y30: 234478 武豊町 | Z30: 244422 明和町 | AC30: 272183 大東市 | AD30: 282162 高砂市 | AE30: 294462 天川村 | AF30: 303810 美浜町 | AI30: 333468 和気町 | AO30: 392049 南国市 | AP30: 406465 上毛町 | AS30: 433691 和水町 | AV30: 463043 十島村 | AW30: 473286 中城村
C31: 014869 遠別町 | D31: 022039 八戸市 | E31: 034851 普代村 | F31: 043419 丸森町 | H31: 063649 真室川町 | I31: 072079 須賀川市 | J31: 083411 東海村 | L31: 102067 沼田市 | M31: 114642 杉戸町 | N31: 122327 白井市 | O31: 131075 墨田区 | P31: 142174 南足柄市 | Q31: 152129 村上市 | V31: 204323 木曽町 | W31: 212067 中津川市 | X31: 222071 富士宮市 | Y31: 232319 田原市 | Z31: 242021 四日市市 | AC31: 273830 千早赤阪村 | AD31: 283657 多可町 | AE31: 292044 天理市 | AF31: 303615 湯浅町 | AO31: 393878 仁淀川町 | AP31: 402231 古賀市 | AS31: 433675 南関町 | AV31: 465011 中種子町 | AW31: 473065 今帰仁村
C32: 015636 雄武町 | D32: 024244 東通村 | E32: 032026 宮古市 | F32: 045055 美里町 | H32: 064262 三川町 | I32: 072095 相馬市 | J32: 085642 利根町 | L32: 104299 東吾妻町 | M32: 112216 草加市 | N32: 122351 匝瑳市 | O32: 131121 世田谷区 | P32: 143642 山北町 | Q32: 153427 弥彦村 | V32: 204251 木祖村 | W32: 212091 羽島市 | X32: 222267 牧之原市 | Y32: 232246 知多市 | Z32: 244708 度会町 | AC32: 272035 豊中市 | AD32: 282146 宝塚市 | AE32: 294497 十津川村 | AF32: 303836 由良町 | AO32: 394106 日高村 | AP32: 404012 小竹町 | AS32: 435015 錦町 | AV32: 464040 長島町 | AW32: 472093 名護市
C33: 015644 大空町 | D33: 022101 平川市 | E33: 032018 盛岡市 | F33: 046060 南三陸町 | H33: 062081 村山市 | I33: 073679 只見町 | J33: 082171 取手市 | L33: 102091 藤岡市 | M33: 112071 秩父市 | N33: 122297 袖ケ浦市 | O33: 131067 台東区 | P33: 142131 大和市 | Q33: 154610 湯沢町 | V33: 203076 北相木村 | W33: 215074 東白川村 | X33: 223051 松崎町 | Y33: 232254 知立市 | AC33: 273210 豊能町 | AD33: 282294 たつの市 | AE33: 292010 奈良市 | AF33: 302015 和歌山市 | AO33: 394271 三原村 | AP33: 403423 篠栗町 | AS33: 434329 西原村 | AV33: 462136 西之表市 | AW33: 472018 那覇市
C34: 013676 奥尻町 | D34: 023019 平内町 | E34: 033227 矢巾町 | F34: 043222 村田町 | H34: 063622 最上町 | I34: 074811 棚倉町 | J34: 082261 那珂市 | L34: 102016 前橋市 | M34: 112411 鶴ヶ島市 | N34: 123471 多古町 | O34: 132021 立川市 | P34: 143847 湯河原町 | V34: 203033 小海町 | W34: 212172 飛騨市 | X34: 222062 三島市 | Y34: 232084 津島市 | AC34: 272141 富田林市 | AD34: 282219 丹波篠山市 | AE34: 294471 野迫川村 | AO34: 392022 室戸市 | AP34: 403431 志免町 | AS34: 434680 氷川町 | AV34: 462161 日置市 | AW34: 472158 南城市
C35: 015504 置戸町 | D35: 022021 弘前市 | E35: 034827 山田町 | F35: 043621 山元町 | H35: 062014 山形市 | I35: 075027 玉川村 | J35: 082333 行方市 | L35: 102121 みどり市 | M35: 113492 ときがわ町 | N35: 122050 館山市 | O35: 132241 多摩市 | P35: 142018 横須賀市 | V35: 202100 駒ヶ根市 | W35: 215040 七宗町 | X35: 223042 南伊豆町 | Y35: 235628 東栄町 | AC35: 272159 寝屋川市 | AD35: 282235 丹波市 | AE35: 294535 東吉野村 | AO35: 393410 本山町 | AP35: 403458 新宮町 | AS35: 432032 人吉市 | AV35: 464821 東串良町 | AW35: 473294 西原町
C36: 015610 興部町 | D36: 023230 深浦町 | E36: 032107 陸前高田市 | F36: 044067 利府町 | H36: 063011 山辺町 | I36: 072117 田村市 | J36: 082287 坂東市 | L36: 104493 みなかみ町 | M36: 112089 所沢市 | N36: 121002 千葉市 | O36: 131024 中央区 | P36: 141003 横浜市 | V36: 202088 小諸市 | W36: 212083 瑞浪市 | X36: 224618 森町 | Y36: 232220 東海市 | AC36: 273228 能勢町 | AD36: 282090 豊岡市 | AE36: 293423 平群町 | AO36: 393045 安田町 | AP36: 403440 須恵町 | AS36: 434434 益城町 | AV36: 462047 枕崎市 | AW36: 473502 南風原町
C37: 013471 長万部町 | D37: 023612 藤崎町 | F37: 045012 涌谷町 | H37: 064611 遊佐町 | I37: 072133 伊達市 | J37: 082121 常陸太田市 | L37: 105228 明和町 | M37: 112241 戸田市 | N37: 122025 銚子市 | O37: 132080 調布市 | V37: 206024 栄村 | W37: 212164 瑞穂市 | X37: 222127 焼津市 | Y37: 233021 東郷町 | AC37: 272221 羽曳野市 | AD37: 282049 西宮市 | AE37: 293865 御杖村 | AO37: 394050 梼原町 | AP37: 406023 添田町 | AS37: 433489 美里町 | AV37: 463035 三島村 | AW37: 473031 東村
C38: 012033 小樽市 | D38: 022071 三沢市 | F38: 043613 亘理町 | H38: 062022 米沢市 | I38: 073440 天栄村 | J38: 082252 常陸大宮市 | L38: 103454 吉岡町 | M38: 113638 長瀞町 | N38: 124231 長生村 | O38: 131016 千代田区 | V38: 205214 坂城町 | W38: 215210 御嵩町 | X38: 224243 吉田町 | Y38: 232165 常滑市 | AC38: 272329 阪南市 | AD38: 282138 西脇市 | AE38: 293628 三宅町 | AP38: 402061 田川市 | AS38: 435074 水上村 | AV38: 464911 南大隅町 | AW38: 473570 南大東村
C39: 014702 音威子府村 | D39: 022080 むつ市 | I39: 075434 富岡町 | J39: 082023 日立市 | M39: 113417 滑川町 | N39: 124273 長南町 | O39: 131164 豊島区 | V39: 202177 佐久市 | W39: 212113 美濃加茂市 | Y39: 234273 飛島村 | AC39: 272272 東大阪市 | AD39: 283827 播磨町 | AE39: 293229 山添村 | AP39: 405035 大刀洗町 | AS39: 432059 水俣市 | AV39: 462233 南九州市 | AW39: 472140 宮古島市
C40: 016314 音更町 | D40: 024066 横浜町 | I40: 074659 中島村 | J40: 082210 ひたちなか市 | M40: 112305 新座市 | N40: 122131 東金市 | O40: 133621 利島村 | V40: 203092 佐久穂町 | W40: 212075 美濃市 | Y40: 232297 豊明市 | AC40: 272108 枚方市 | AD40: 282014 姫路市 | AE40: 292036 大和郡山市 | AP40: 402214 太宰府市 | AS40: 434337 南阿蘇村 | AV40: 462209 南さつま市 | AW40: 473081 本部町
C41: 013641 乙部町 | D41: 023043 蓬田村 | I41: 075477 浪江町 | J41: 082341 鉾田市 | M41: 112381 蓮田市 | N41: 123498 東庄町 | O41: 131148 中野区 | V41: 202151 塩尻市 | W41: 212181 本巣市 | Y41: 232076 豊川市 | AC41: 272264 藤井寺市 | AD41: 284432 福崎町 | AE41: 292028 大和高田市 | AP41: 402117 筑後市 | AS41: 434230 南小国町 | AV41: 465020 南種子町 | AW41: 473626 八重瀬町
C42: 012076 帯広市 | D42: 024058 六戸町 | I42: 075426 楢葉町 | J42: 082015 水戸市 | M42: 113484 鳩山町 | N42: 122335 富里市 | O42: 133639 新島村 | V42: 205834 信濃町 | W42: 215058 八百津町 | Y42: 232114 豊田市 | AC42: 272175 松原市 | AD42: 282154 三木市 | AE42: 294411 吉野町 | AP42: 402176 筑紫野市 | AS42: 434418 御船町 | AV42: 465054 屋久島町 | AW42: 473821 与那国町
C43: 014826 小平町 | D43: 024112 六ヶ所村 | I43: 074055 西会津町 | J43: 084425 美浦村 | M43: 112160 羽生市 | N43: 124265 長柄町 | O43: 132292 西東京市 | V43: 204111 下條村 | W43: 212156 山県市 | Y43: 235636 豊根村 | AC43: 273660 岬町 | AD43: 282243 南あわじ市 | AP43: 406473 築上町 | AS43: 432024 八代市 | AV43: 465232 大和村 | AW43: 473481 与那原町
C44: 014575 上川町 | I44: 074616 西郷村 | J44: 082244 守谷市 | M44: 112097 飯能市 | N44: 122203 流山市 | O44: 131202 練馬区 | V44: 203611 下諏訪町 | W44: 213411 養老町 | Y44: 232017 豊橋市 | AC44: 272205 箕面市 | AD44: 282227 養父市 | AP44: 404471 筑前町 | AS44: 435121 山江村 | AV44: 464520 湧水町 | AW44: 473243 読谷村
...
